BEGIN:VCALENDAR
VERSION:2.0
PRODID:-//The Point - ECPv5.16.3.1//NONSGML v1.0//EN
CALSCALE:GREGORIAN
METHOD:PUBLISH
X-WR-CALNAME:The Point
X-ORIGINAL-URL:https://pointfm.com
X-WR-CALDESC:Events for The Point
BEGIN:VTIMEZONE
TZID:America/New_York
BEGIN:DAYLIGHT
TZOFFSETFROM:-0500
TZOFFSETTO:-0400
TZNAME:EDT
DTSTART:20190310T070000
END:DAYLIGHT
BEGIN:STANDARD
TZOFFSETFROM:-0400
TZOFFSETTO:-0500
TZNAME:EST
DTSTART:20191103T060000
END:STANDARD
END:VTIMEZONE
BEGIN:VEVENT
DTSTART;TZID=America/New_York:20190130T193000
DTEND;TZID=America/New_York:20190217T220000
DTSTAMP:20260423T152514
CREATED:20181218T182935Z
LAST-MODIFIED:20181218T182935Z
UID:98532-1548876600-1550440800@pointfm.com
SUMMARY:Venus Rising @ Barrette Center for the Arts
DESCRIPTION:Venus Rising : A World Premiere by Marisa Smith \nVARIOUS DAYS AND TIMES \n(January 30 – February 17 ) \nNorthern Stage- Barrette Center for the Arts | White River Junction\, VT \n-Get Ticket and Event Info Here- \nWhen Julie\, married mother of three\, unexpectedly leaves her husband and moves in with her mother Cora\, she’s shocked at what she finds in her childhood home. Insults\, galoshes\, and English muffins fly as the women fight for control of Cora’s life and Julie comes to grips with her own mid-life crisis. Playwright Marisa Smith\, the creative mind behind 2016’s hit Mad Love\, is back with a hilarious and deeply perceptive story of aging gracefully – or sometimes not so gracefully – and how we try to care for one another in the face of life’s challenges. Smith brings to bear her signature brand of humor and acuteness of language to leave us laughing and crying all at once. Northern Stage is proud to present another world premiere production nurtured through New Works Now. \nAdvisory: Ages 13 and up for adult language and mature themes.\nPlease note: Age advisories are subject to change as our productions go through the rehearsal process. Each parent and child is different; please use your own discretion when deciding what is right for your family
URL:https://pointfm.com/events/venus-rising-barrette-center-for-the-arts/
END:VEVENT
BEGIN:VEVENT
DTSTART;TZID=America/New_York:20190201T203000
DTEND;TZID=America/New_York:20190201T233000
DTSTAMP:20260423T152514
CREATED:20190103T200808Z
LAST-MODIFIED:20190103T200808Z
UID:98553-1549053000-1549063800@pointfm.com
SUMMARY:Rayland Baxter @ Higher Ground
DESCRIPTION:The Point Welcomes: \nRayland Baxter \nA Tour de Point Show \nFriday\, February 1st @ 8:30 pm \nHigher Ground | Burlington\, VT \n-Get Tickets and Event Info Here- \nThoreau had Walden Pond. Kerouac had Big Sur. Rayland Baxter? He had an old rubber band factory in Franklin\, Kentucky\, and it suited him just fine. As one of the hardest-touring artists on the road today\, Baxter’s spent most of his professional life in transit\, but ever since he was a kid\, he dreamed of creative seclusion someplace lonely and isolated\, somewhere he could sit still and devote his every waking hour to writing without interruption or distraction. When the opportunity finally presented itself in late 2016\, the Nashville native pounced. \n“I packed everything in my van and moved to Franklin for three months\,” says Baxter. “It was the fist time I ever got to be alone and focus solely on songs like that. All I did was write\, write\, write all day every day. I was obsessed.” \nBy the time Baxter emerged\, he’d penned more than 50 tunes and crafted a detailed blueprint for his spectacular new album\, ‘Wide Awake.’ Deftly produced by Butch Walker\, the record infuses Baxter’s easygoing\, soulful sound with British Invasion melodies and rock and roll swagger\, marrying lean\, muscular songwriting with adventurous\, inventive arrangements. It’s a cutting\, insightful collection\, one that takes a sardonic view the violence\, greed\, and division that seem to define the modern American landscape. Rather than point a finger\, though\, the music holds up a mirror\, offering a sober reflection of the times thoughtfully bundled in bright\, infectious hooks. There’s no judgment here\, only keen observation\, and Baxter implicates himself as much as his neighbor through it all.
URL:https://pointfm.com/events/rayland-baxter-higher-ground/
END:VEVENT
END:VCALENDAR