BEGIN:VCALENDAR
VERSION:2.0
PRODID:-//The Point - ECPv5.16.3.1//NONSGML v1.0//EN
CALSCALE:GREGORIAN
METHOD:PUBLISH
X-WR-CALNAME:The Point
X-ORIGINAL-URL:https://pointfm.com
X-WR-CALDESC:Events for The Point
BEGIN:VTIMEZONE
TZID:America/New_York
BEGIN:DAYLIGHT
TZOFFSETFROM:-0500
TZOFFSETTO:-0400
TZNAME:EDT
DTSTART:20190310T070000
END:DAYLIGHT
BEGIN:STANDARD
TZOFFSETFROM:-0400
TZOFFSETTO:-0500
TZNAME:EST
DTSTART:20191103T060000
END:STANDARD
END:VTIMEZONE
BEGIN:VEVENT
DTSTART;TZID=America/New_York:20190227T193000
DTEND;TZID=America/New_York:20190317T220000
DTSTAMP:20260423T154426
CREATED:20181218T183401Z
LAST-MODIFIED:20181218T183401Z
UID:98533-1551295800-1552860000@pointfm.com
SUMMARY:Buyer & Cellar @ Barrette Center for the Arts
DESCRIPTION:Buyer & Cellar by Jonathan Tolins\n \nVARIOUS DAYS AND TIMES \n(February 27 – March 17 ) \nNorthern Stage- Barrette Center for the Arts | White River Junction\, VT \n-Get Tickets and Event Info Here- \nAlex More has a story to tell. A struggling actor in L.A.\, he takes a job working in the Malibu basement mini-mall of beloved megastar Barbra Streisand. One day\, the star herself comes downstairs to play. It feels like real bonding in the basement\, but will their relationship ever make it upstairs? Buyer & Cellar is an outrageous comedy about the price of fame\, the cost of things\, and the oddest of odd jobs. \nAdvisory: Ages 12 and up for mild and limited profanity.\nPlease note: Age advisories are subject to change as our productions go through the rehearsal process. Each parent and child is different; please use your own discretion when deciding what is right for your family.\nApproximate Run Time: 1 hour and 30 minutes with no intermission
URL:https://pointfm.com/events/buyer-cellar-barrette-center-for-the-arts/
END:VEVENT
BEGIN:VEVENT
DTSTART;TZID=America/New_York:20190302T210000
DTEND;TZID=America/New_York:20190302T233000
DTSTAMP:20260423T154426
CREATED:20190208T215408Z
LAST-MODIFIED:20190208T215510Z
UID:100184-1551560400-1551569400@pointfm.com
SUMMARY:Jacob Jolliff Band @ Zen Barn
DESCRIPTION:The Point Welcomes: \nJacob Jolliff Band \nA Tour de Point Show \nSaturday\, March 2nd @9:00 pm \nZen Barn | Waterbury Center\, VT \n-Get Tickets and Event Info Here- \nZero Gravity Craft Brewery presents… an evening with bluegrass supergroup Jacob Jolliff Band returning to Zenbarn for a not-to-be-missed show… this one will sell out\, get your tickets! \nThe Jacob Jolliff Band is the next generation of bluegrass supergroups\, led by one of the country’s premier contemporary bluegrass mandolinists. \nBefore joining Yonder Mountain String Band\, Jacob Jolliff founded beloved New England roots band Joy Kills Sorrow\, while attending Berklee School of Music on a full scholarship. The band logged three records\, hundreds of shows\, and thousands of miles of worldwide touring. In 2012\, Jolliff had the distinctive honor of being named the National Mandolin Championship winner. A fixture of the national bluegrass community\, he has collaborated and shared the stage with Darol Anger\, Sam Bush\, Ronnie McCoury\, Jerry Douglas\, Chris Thile\, and David Grisman to name a few. When Joy Kills Sorrow disbanded in 2014\, Jolliff got the call to join progressive bluegrass giant Yonder Mountain String Band. \nThe ensemble features some of the most virtuosic and innovative young pickers in the country. Jacob Jolliff continues to tour extensively with Yonder Mountain String Band year round\, assembling his namesake band when his relentless touring schedules permit\, for rare\, not to to be missed performances.
URL:https://pointfm.com/events/jacob-joliff-band-zen-barn/
END:VEVENT
END:VCALENDAR