BEGIN:VCALENDAR
VERSION:2.0
PRODID:-//The Point - ECPv5.16.3.1//NONSGML v1.0//EN
CALSCALE:GREGORIAN
METHOD:PUBLISH
X-WR-CALNAME:The Point
X-ORIGINAL-URL:https://pointfm.com
X-WR-CALDESC:Events for The Point
BEGIN:VTIMEZONE
TZID:America/New_York
BEGIN:DAYLIGHT
TZOFFSETFROM:-0500
TZOFFSETTO:-0400
TZNAME:EDT
DTSTART:20190310T070000
END:DAYLIGHT
BEGIN:STANDARD
TZOFFSETFROM:-0400
TZOFFSETTO:-0500
TZNAME:EST
DTSTART:20191103T060000
END:STANDARD
END:VTIMEZONE
BEGIN:VEVENT
DTSTART;TZID=America/New_York:20190227T193000
DTEND;TZID=America/New_York:20190317T220000
DTSTAMP:20260423T070757
CREATED:20181218T183401Z
LAST-MODIFIED:20181218T183401Z
UID:98533-1551295800-1552860000@pointfm.com
SUMMARY:Buyer & Cellar @ Barrette Center for the Arts
DESCRIPTION:Buyer & Cellar by Jonathan Tolins\n \nVARIOUS DAYS AND TIMES \n(February 27 – March 17 ) \nNorthern Stage- Barrette Center for the Arts | White River Junction\, VT \n-Get Tickets and Event Info Here- \nAlex More has a story to tell. A struggling actor in L.A.\, he takes a job working in the Malibu basement mini-mall of beloved megastar Barbra Streisand. One day\, the star herself comes downstairs to play. It feels like real bonding in the basement\, but will their relationship ever make it upstairs? Buyer & Cellar is an outrageous comedy about the price of fame\, the cost of things\, and the oddest of odd jobs. \nAdvisory: Ages 12 and up for mild and limited profanity.\nPlease note: Age advisories are subject to change as our productions go through the rehearsal process. Each parent and child is different; please use your own discretion when deciding what is right for your family.\nApproximate Run Time: 1 hour and 30 minutes with no intermission
URL:https://pointfm.com/events/buyer-cellar-barrette-center-for-the-arts/
END:VEVENT
BEGIN:VEVENT
DTSTART;TZID=America/New_York:20190308T190000
DTEND;TZID=America/New_York:20190308T230000
DTSTAMP:20260423T070757
CREATED:20190220T163310Z
LAST-MODIFIED:20190220T163310Z
UID:100212-1552071600-1552086000@pointfm.com
SUMMARY:Cyrille Aimée @ Spruce Peak Performing Arts Center
DESCRIPTION:Cyrille Aimée: A Sondheim Adventure \nFriday\, March 8th @ 7:00 pm \nSpruce Peak Performing Art Center | Stowe\, VT \n-Get Ticket and Event Info Here- \nVocalist Cyrille Aimée was primarily raised in France by a French father and Dominican mother. As a curious child in Samois-sur-Seine\, she would sneak out of her bedroom window to wander into the nearby gypsy encampments filled with those attending the annual Django Reinhardt Festival. She quickly fell in love with gypsy music and way of life; years later she would sing on street corners with friends while traveling across Europe. While in the midst of one such odyssey\, she found herself at the Montreux Jazz Festival\, where she won first prize in the vocal competition – which included the financing of her first self-produced album. When Aimée audtioned for the Star Academy (a kind of French  American Idol)\, she became a finalist. Informed she would have to sing only what she was told\, her gypsy spirit rebelled—and in what was a cause célèbre she walked from the competition. \nShe now happily tours the world with her band as well as in a duo setting with Brazilian guitarist Diego Figueiredo. Aimée’s talents also recently caught the attention of Stephen Sondheim\, who cast her in an Encores Special Presentation at New York City’s City Center in November 2013.  The New York Times referred to Aimée’s major label debut in August 2014\, as “a bravura turn\, presented with a smile.” Don’t miss this incredible jazz vocalist’s debut in Stowe!
URL:https://pointfm.com/events/cyrille-aimee-spruce-peak-performing-arts-center/
END:VEVENT
BEGIN:VEVENT
DTSTART;TZID=America/New_York:20190308T193000
DTEND;TZID=America/New_York:20190308T223000
DTSTAMP:20260423T070757
CREATED:20181128T211113Z
LAST-MODIFIED:20181128T211113Z
UID:98466-1552073400-1552084200@pointfm.com
SUMMARY:Ranky Tanky @ UVM Recital Hall
DESCRIPTION:Ranky Tanky \nFriday\, March 8th @ 7:30 pm \nUVM Recital Hall | Burlington\, VT \n-Get Tickets and Event Info Here- \nRanky Tanky is a five-person band from Charleston\, South Carolina\, that plays the Gullah music of the Carolina Sea Islands. The group has been been profiled on NPR’s Fresh Air with Terry Gross\, and their album soared to the no. 1 positions on the Billboard\, iTunes\, and Amazon Jazz Charts. “Gullah” comes from West African language and means “a people blessed by God.” “Ranky Tanky” translates loosely as “Work It\,” or “Get Funky!” Gullah music has its roots in West Africa\, and\, as a form\, has influenced much American music\, including jazz and beyond. From call and response led by their extraordinary singer Quiana Parler\, to work songs\, sea songs\, gospel influences\, and jazzy instrumentals\, Ranky-Tanky are American originals who make a truly joyful noise.
URL:https://pointfm.com/events/ranky-tanky-uvm-recital-hall/
END:VEVENT
END:VCALENDAR