BEGIN:VCALENDAR
VERSION:2.0
PRODID:-//The Point - ECPv5.16.3.1//NONSGML v1.0//EN
CALSCALE:GREGORIAN
METHOD:PUBLISH
X-WR-CALNAME:The Point
X-ORIGINAL-URL:https://pointfm.com
X-WR-CALDESC:Events for The Point
BEGIN:VTIMEZONE
TZID:America/New_York
BEGIN:DAYLIGHT
TZOFFSETFROM:-0500
TZOFFSETTO:-0400
TZNAME:EDT
DTSTART:20220313T070000
END:DAYLIGHT
BEGIN:STANDARD
TZOFFSETFROM:-0400
TZOFFSETTO:-0500
TZNAME:EST
DTSTART:20221106T060000
END:STANDARD
END:VTIMEZONE
BEGIN:VEVENT
DTSTART;TZID=America/New_York:20220227T200000
DTEND;TZID=America/New_York:20220227T230000
DTSTAMP:20260425T214823
CREATED:20211109T184647Z
LAST-MODIFIED:20211109T184647Z
UID:104488-1645992000-1646002800@pointfm.com
SUMMARY:Aoife O'Donovan @ Higher Ground
DESCRIPTION:The Point Welcomes: \nAoife O’Donovan \nA Tour de Point Show\n \n  \nSunday\, February 27\, 2022  Doors: 7 PM / Show: 8 PM \nHigher Ground | South Burlington\, VT \n– Tickets and Event Info – \n  \nGrammy award-winning artist Aoife O’Donovan operates in a thrilling musical world beyond genre. Deemed “a vocalist of unerring instinct” by the New York Times\, she has released two critically-acclaimed and boundary-blurring solo albums including In the Magic Hour\, which Rolling Stone hailed for its “Impressionistic\, atmospheric songs [that] relay their narratives against gorgeous pastoral backdrops.” O’Donovan spent the Winter and Spring of 2021 in the studio with acclaimed producer Joe Henry (Bonnie Raitt\, Rhiannon Giddens) recording Age of Apathy\, her third full-length solo album\, ou January 21\, 2022. \nA savvy and generous collaborator\, Aoife is one third of the group I’m With Her with bandmates Sara Watkins and Sarah Jarosz. The trio’s debut album See You Around was hailed as “willfully open-hearted” by NPR Music. I’m With Her earned an Americana Music Association Award in 2019 for Duo/Group of the Year\, and a Grammy-award in 2020 for Best American Roots Song. O’Donovan spent the preceding decade as co-founder and front woman of the string band\, Crooked Still and is the featured vocalist and contributing songwriter on The Goat Rodeo Sessions – the group with Yo-Yo Ma\, Stuart Duncan\, Edgar Meyer\, and Chris Thile. She has appeared as a featured vocalist with over a dozen symphonies including the National Symphony Orchestra\, written for Alison Krauss\, performed with jazz trumpeter Dave Douglas\, and spent a decade as a regular contributor to the radio variety shows “Live From Here” and “A Prairie Home Companion.”
URL:https://pointfm.com/events/aoife-odonovan-higher-ground/
LOCATION:Higher Ground
END:VEVENT
END:VCALENDAR