BEGIN:VCALENDAR
VERSION:2.0
PRODID:-//The Point - ECPv5.16.3.1//NONSGML v1.0//EN
CALSCALE:GREGORIAN
METHOD:PUBLISH
X-WR-CALNAME:The Point
X-ORIGINAL-URL:https://pointfm.com
X-WR-CALDESC:Events for The Point
BEGIN:VTIMEZONE
TZID:America/New_York
BEGIN:DAYLIGHT
TZOFFSETFROM:-0500
TZOFFSETTO:-0400
TZNAME:EDT
DTSTART:20220313T070000
END:DAYLIGHT
BEGIN:STANDARD
TZOFFSETFROM:-0400
TZOFFSETTO:-0500
TZNAME:EST
DTSTART:20221106T060000
END:STANDARD
END:VTIMEZONE
BEGIN:VEVENT
DTSTART;TZID=America/New_York:20220716T060000
DTEND;TZID=America/New_York:20220716T220000
DTSTAMP:20260425T084102
CREATED:20220711T203404Z
LAST-MODIFIED:20220711T203404Z
UID:105124-1657951200-1658008800@pointfm.com
SUMMARY:Wilderado @ Spruce Peak Resort Village Green
DESCRIPTION:The Point Welcomes: \nWilderado\n \n– Tickets and Event Info – \nSaturday\, July 16 @6:00 pm \nSpruce Peak Resort Village Green | Stowe\, VT \nFormed in the California mountains\, but originally hailing from Tulsa\, OK\, Wilderado have been steadily building a passionate fan base and defining who they are since 2015. When they first came together\, Maxim Rainer (lead vocals\, guitar)\, Tyler Wimpee (guitar\, vocals) and Justin Kila (drums) spent a summer in Latigo Canyon\, a secluded part of Malibu\, with longtime Sufjan Stevens collaborator James McAlister\, immersing themselves in writing and recording. Those songs went on to form early EP releases with tastemaker indie labels IAMSOUND and National Anthem\, which garnered more than 100 million streams\, but more crucially provided the backbone to years of touring. \nThe new single\, “Head Right\,” is the first taste of what’s to come and shows the ambition and intent of a band on the up. A moment that shows confidence and a rambunctious slice of rock n’ roll that builds on what Wilderado does best: the confluence of soaring melodies and lush three-part harmonies. The staple Wilderado sound. Something they have spent the past five years refining and perfecting – now is their time.
URL:https://pointfm.com/events/wilderado-spruce-peak-resort-village-green/
LOCATION:Spruce Peak Resort Village Green\, 7416 Mountain Road\, Stowe\, VT\, 05672\, United States
END:VEVENT
END:VCALENDAR