BEGIN:VCALENDAR
VERSION:2.0
PRODID:-//The Point - ECPv5.16.3.1//NONSGML v1.0//EN
CALSCALE:GREGORIAN
METHOD:PUBLISH
X-WR-CALNAME:The Point
X-ORIGINAL-URL:https://pointfm.com
X-WR-CALDESC:Events for The Point
BEGIN:VTIMEZONE
TZID:America/New_York
BEGIN:DAYLIGHT
TZOFFSETFROM:-0500
TZOFFSETTO:-0400
TZNAME:EDT
DTSTART:20220313T070000
END:DAYLIGHT
BEGIN:STANDARD
TZOFFSETFROM:-0400
TZOFFSETTO:-0500
TZNAME:EST
DTSTART:20221106T060000
END:STANDARD
END:VTIMEZONE
BEGIN:VEVENT
DTSTART;TZID=America/New_York:20220724T200000
DTEND;TZID=America/New_York:20220724T230000
DTSTAMP:20260424T224028
CREATED:20220510T191758Z
LAST-MODIFIED:20220510T191858Z
UID:104982-1658692800-1658703600@pointfm.com
SUMMARY:Fully Completely Hip @ Higher Ground
DESCRIPTION:The Point Welcomes: \nFully Completely Hip: A Tragically Hip Tribute \nA Tour de Point Show\n \n  \nSunday\, July 24   Doors: 7:30 PM / Show: 8 PM \nHigher Ground | South Burlington\, VT \n– Tickets and Event Info – \n  \nFully Completely Hip formed in late 2016 with one goal – To spread the spirit of what the Tragically Hip music stood for – Love\, Poetry\, Peace and Friendships. FCH was quick to hit the road and begin cutting their teeth playing in both Canada and the United States bringing the Tragically Hip sound and show with them to clubs\, campfires\, festivals and major headline acts.\nIn late 2017 the news of Gords passing shook the world. FCH’s mission became even more important. It’s more than a show\, it’s a celebration to the music of the Tragically Hip\, a time to get together\, to share a moment\, a memory\, a song and pay tribute to a great man and great band.\n“Looked up to the Gord above and said Hey Man\, Thanks!”
URL:https://pointfm.com/events/fully-completely-hip-higher-ground/
LOCATION:Higher Ground
END:VEVENT
END:VCALENDAR