BEGIN:VCALENDAR
VERSION:2.0
PRODID:-//The Point - ECPv5.16.3.1//NONSGML v1.0//EN
CALSCALE:GREGORIAN
METHOD:PUBLISH
X-WR-CALNAME:The Point
X-ORIGINAL-URL:https://pointfm.com
X-WR-CALDESC:Events for The Point
BEGIN:VTIMEZONE
TZID:America/New_York
BEGIN:DAYLIGHT
TZOFFSETFROM:-0500
TZOFFSETTO:-0400
TZNAME:EDT
DTSTART:20220313T070000
END:DAYLIGHT
BEGIN:STANDARD
TZOFFSETFROM:-0400
TZOFFSETTO:-0500
TZNAME:EST
DTSTART:20221106T060000
END:STANDARD
END:VTIMEZONE
BEGIN:VEVENT
DTSTART;TZID=America/New_York:20220818T180000
DTEND;TZID=America/New_York:20220818T220000
DTSTAMP:20260423T140945
CREATED:20220712T145953Z
LAST-MODIFIED:20220712T150043Z
UID:105131-1660845600-1660860000@pointfm.com
SUMMARY:Jamestown Revival @ Spruce Peak Resort Village Green
DESCRIPTION:  \nThe Point Welcomes: \nJamestown Revival\n \nwith special guest Stephen Kellogg \n– Tickets and Event Info – \nThursday\, August 18 @6:00 pm \nSpruce Peak Resort Village Green | Stowe\, VT \n  \nJamestown Revival deliver skillful songwriting\, flawless harmony\, and intricate fingerpicking on their newest album\, Young Man. The project is their first without electric guitars and their first to be recorded in a studio. Jonathan Clay and Zach Chance forged a musical bond as teenagers growing up in Magnolia\, Texas. They draw musical inspiration from groups like Crosby\, Stills\, Nash & Young and The Doobie Brothers\, as well as songwriters such as Guy Clark and Townes Van Zandt. With themes like coming of age and settling into an identity\, Young Man is envisioned as a collection of songs that should be played all the way through. Sonically\, the album evokes the experience of musicians huddled together\, singing and playing without headphones or click tracks. Chance and Clay are joined on the Young Man sessions by producer Robert Ellis and the band’s longtime rhythm section of bassist Nick Bearden and drummer Ed Benrock.
URL:https://pointfm.com/events/jamestown-revival-spruce-peak-resort-village-green/
LOCATION:Spruce Peak Resort Village Green\, 7416 Mountain Road\, Stowe\, VT\, 05672\, United States
END:VEVENT
END:VCALENDAR