BEGIN:VCALENDAR
VERSION:2.0
PRODID:-//The Point - ECPv5.16.3.1//NONSGML v1.0//EN
CALSCALE:GREGORIAN
METHOD:PUBLISH
X-WR-CALNAME:The Point
X-ORIGINAL-URL:https://pointfm.com
X-WR-CALDESC:Events for The Point
BEGIN:VTIMEZONE
TZID:America/New_York
BEGIN:DAYLIGHT
TZOFFSETFROM:-0500
TZOFFSETTO:-0400
TZNAME:EDT
DTSTART:20220313T070000
END:DAYLIGHT
BEGIN:STANDARD
TZOFFSETFROM:-0400
TZOFFSETTO:-0500
TZNAME:EST
DTSTART:20221106T060000
END:STANDARD
END:VTIMEZONE
BEGIN:VEVENT
DTSTART;TZID=America/New_York:20220901T180000
DTEND;TZID=America/New_York:20220901T220000
DTSTAMP:20260423T141402
CREATED:20220712T150644Z
LAST-MODIFIED:20220712T150644Z
UID:105132-1662055200-1662069600@pointfm.com
SUMMARY:The Lone Bellow @ Spruce Peak Resort Village Green
DESCRIPTION:The Point Welcomes: \nThe Lone Bellow\n \nwith special guest Pete Kilpatrick \n– Tickets and Event Info – \nThursday\, September 1 @6:00 pm \nSpruce Peak Resort Village Green | Stowe\, VT \n  \n“I want it to bring comfort\,” The Lone Bellow guitarist Brian Elmquist says. “But it’s not all hard conversations. There’s a lot of light and some dancing that needs to happen.” Brian is reflecting on Half Moon Light\, the band’s highly anticipated new album. \nHalf Moon Light is an artistic triumph worked toward for years\, earned not by individual posturing\, but by collective determination and natural growth. With earthy three-part harmonies and songwriting as provocative as it is honest\, the trio made up of Brian\, lead vocalist Zach Williams\, and multi-instrumentalist Kanene Donehey Pipkin creates sparks that make a stranger’s life matter or bring our sense of childlike wonder roaring back. On Half Moon Light\, The Lone Bellow mix light and dark to muster a complex ode to memory\, a call for hope\, and an exercise in empathy. Anchored in the acoustic storytelling that first so endeared the band to fans and critics\, Half Moon Light also takes more chances\, experimenting with textures and instrumental fillips to create a full-bodied music experience. The result is The Lone Bellow’s most sophisticated work to date.
URL:https://pointfm.com/events/the-lone-bellow-spruce-peak-resort-village-green/
LOCATION:Spruce Peak Resort Village Green\, 7416 Mountain Road\, Stowe\, VT\, 05672\, United States
END:VEVENT
END:VCALENDAR