BEGIN:VCALENDAR
VERSION:2.0
PRODID:-//The Point - ECPv5.16.3.1//NONSGML v1.0//EN
CALSCALE:GREGORIAN
METHOD:PUBLISH
X-WR-CALNAME:The Point
X-ORIGINAL-URL:https://pointfm.com
X-WR-CALDESC:Events for The Point
BEGIN:VTIMEZONE
TZID:America/New_York
BEGIN:DAYLIGHT
TZOFFSETFROM:-0500
TZOFFSETTO:-0400
TZNAME:EDT
DTSTART:20220313T070000
END:DAYLIGHT
BEGIN:STANDARD
TZOFFSETFROM:-0400
TZOFFSETTO:-0500
TZNAME:EST
DTSTART:20221106T060000
END:STANDARD
END:VTIMEZONE
BEGIN:VEVENT
DTSTART;TZID=America/New_York:20220906T193000
DTEND;TZID=America/New_York:20220906T223000
DTSTAMP:20260423T204709
CREATED:20220815T150543Z
LAST-MODIFIED:20220815T150543Z
UID:105234-1662492600-1662503400@pointfm.com
SUMMARY:Matt Nathanson @ Higher Ground
DESCRIPTION:The Point Welcomes: \nMatt Nathanson \nA Tour de Point Show\n \n  \nTuesday\, September 6  Doors: 6:30 PM / Show: 7:30 PM \nHigher Ground | South Burlington\, VT \n– Tickets and Event Info – \n\n  \nOver his almost 30 year career\, Matt Nathanson has evolved into one of the most applauded songwriters and engaging performers on the music scene today. His sixth studio album\, Some Mad Hope\, yielded his breakthrough multi-platinum hit “Come on Get Higher.” He followed up with Modern Love\, a critically acclaimed album (PopMatters called it “the closest a pop album comes to perfection this year”) that garnered Nathanson two RIAA Gold Certified singles\, “Faster” & “Run (featuring Sugarland)”.His 2013 release\, Last of The Great Pretenders\, debuted at #16 on the Billboard Top 200 while hitting #1 on iTunes’ Alternative Albums chart. His most recent album\, Sings His Sad Heart spawned the hit single “Used To Be” which was a chart climber -hitting top 20 at Adult Top 40. Throughout his career\, Nathanson has been known to cover songs and artists that inspire him. His Def Leppard approved cover album of their iconic Pyromaniacalled Pyromattia shot to #1 on iTunes Alternative chart and Def Leppard’s Joe Elliott called the album “an amazing reinterpretation” with “heart & soul.” Last year he covered U2’s Achtung Baby as a tribute to his all time favorite album. His holiday LP Farewell December\, includes “Blue Christmas” to “Grandma Got Run Over By a Reindeer” —as well as his somber take on Joni Mitchell’s “River.” Nathanson has performed on The Howard Stern Show\, Ellen\, Jimmy Kimmel Live!\, Dancing with the Stars\, Rachael Ray\, and The CMA Awards to name a few.
URL:https://pointfm.com/events/matt-nathanson-higher-ground-2/
LOCATION:Higher Ground
END:VEVENT
END:VCALENDAR