BEGIN:VCALENDAR
VERSION:2.0
PRODID:-//The Point - ECPv5.16.3.1//NONSGML v1.0//EN
CALSCALE:GREGORIAN
METHOD:PUBLISH
X-WR-CALNAME:The Point
X-ORIGINAL-URL:https://pointfm.com
X-WR-CALDESC:Events for The Point
BEGIN:VTIMEZONE
TZID:America/New_York
BEGIN:DAYLIGHT
TZOFFSETFROM:-0500
TZOFFSETTO:-0400
TZNAME:EDT
DTSTART:20240310T070000
END:DAYLIGHT
BEGIN:STANDARD
TZOFFSETFROM:-0400
TZOFFSETTO:-0500
TZNAME:EST
DTSTART:20241103T060000
END:STANDARD
END:VTIMEZONE
BEGIN:VEVENT
DTSTART;TZID=America/New_York:20240205T193000
DTEND;TZID=America/New_York:20240205T223000
DTSTAMP:20260424T074705
CREATED:20231025T200257Z
LAST-MODIFIED:20231025T200257Z
UID:106290-1707161400-1707172200@pointfm.com
SUMMARY:Josh Ritter & the Royal City Band @ Higher Ground
DESCRIPTION:The Point Welcomes: \nJosh Ritter & the Royal City Band \nA Tour de Point Show\n \n  \nMonday\, February 5\, 2024  Doors: 7 PM / Show: 7:30 PM \nHigher Ground | South Burlington\, VT \n– Tickets and Event Info – \n  \nJosh Ritter & the Royal City Band – Performing the Album ‘Hello Starling’ \nJosh and band will celebrate the 20th anniversary of Josh’s 2003 breakthrough record\, Hello Starling\, with a very limited North America headline tour\, playing the album in full (plus more music). This follows a sold out European autumn tour celebrating the album. \nA note from Josh: \n“When I wrote Hello Starling\, I was playing coffee shops and open mics. By the time it came out\, I was on tour with the Frames and Joan Baez. I was practically living on the road\, hearing my songs on the radio for the first time\, staying up all night\, touring North America & Europe with my band\, doing all these things I had only dreamt of. It was a grand time. \nFor the 20th anniversary of the album\, the band and I will be taking a swing through Hello Starling this February. We’ll play the entire album in full\, front to back\, and then play a bunch more music. \nThank you all for listening all these years! \nLove\, Josh”
URL:https://pointfm.com/events/josh-ritter-the-royal-city-band-higher-ground/
LOCATION:Higher Ground
END:VEVENT
END:VCALENDAR