BEGIN:VCALENDAR
VERSION:2.0
PRODID:-//The Point - ECPv5.16.3.1//NONSGML v1.0//EN
CALSCALE:GREGORIAN
METHOD:PUBLISH
X-WR-CALNAME:The Point
X-ORIGINAL-URL:https://pointfm.com
X-WR-CALDESC:Events for The Point
BEGIN:VTIMEZONE
TZID:America/New_York
BEGIN:DAYLIGHT
TZOFFSETFROM:-0500
TZOFFSETTO:-0400
TZNAME:EDT
DTSTART:20240310T070000
END:DAYLIGHT
BEGIN:STANDARD
TZOFFSETFROM:-0400
TZOFFSETTO:-0500
TZNAME:EST
DTSTART:20241103T060000
END:STANDARD
END:VTIMEZONE
BEGIN:VEVENT
DTSTART;VALUE=DATE:20240802
DTEND;VALUE=DATE:20240805
DTSTAMP:20260419T171820
CREATED:20240801T140349Z
LAST-MODIFIED:20240801T140425Z
UID:106885-1722556800-1722815999@pointfm.com
SUMMARY:Festival of Fools
DESCRIPTION:BTV’s annual gala of goofs\, rite of ridiculousness\, and preposterous pageant of merrymaking returns!\nThe Festival of Fools brings over 100 free performances to Burlington\, Vermont’s historic Church Street\, with street performance\, busking\, music\, and more! \nDownload the BCA Events App for the Most Up-to-Date Schedules\, Maps\, and More! \nClick here for the list of 2024 Performers \nWant to see what you’re in for? View photos from 2023 \nFollow Burlington City Arts On Socials For Updates: \n\nFacebook\nInstagram\nYouTube\n\n  \n \nBurlington City Arts nurtures a dynamic environment through the arts\, making quality experiences and opportunities accessible to a broad audience. Learn More about their mission and artist resources here
URL:https://pointfm.com/events/festival-of-fools-2024/
LOCATION:Burlington City Arts\, 135 Church Street\, Burlington\, 05401\, United States
END:VEVENT
BEGIN:VEVENT
DTSTART;TZID=America/New_York:20240803T110000
DTEND;TZID=America/New_York:20240803T150000
DTSTAMP:20260419T171820
CREATED:20240617T181228Z
LAST-MODIFIED:20240617T181228Z
UID:106792-1722682800-1722697200@pointfm.com
SUMMARY:BTV Market - Open Saturdays in August
DESCRIPTION:The BTV Market is open Now through September 28 in City Hall Park\nCo-presented by Burlington City Arts and Love Burlington\, come cross paths with an eclectic group of local artists and makers representing all corners of Burlington’s creative community. \nLive music\, games\, and kids activities make for festive fun while you shop and stroll among vendors and neighbors. \nRunning from 11 am-3 pm every Saturday\, the BTV Market hosts over 100 local vendors over 18 weeks\, with 40 vendors present each week. \nCheck the BCA Calendar for the full listing of Market Music performers!
URL:https://pointfm.com/events/btv-market-open-saturdays-in-august/
LOCATION:City Hall Park\, 149 College St\, Burlington\, VT\, 05401\, United States
END:VEVENT
BEGIN:VEVENT
DTSTART;TZID=America/New_York:20240803T193000
DTEND;TZID=America/New_York:20240803T233000
DTSTAMP:20260419T171820
CREATED:20230621T195515Z
LAST-MODIFIED:20240703T183326Z
UID:106000-1722713400-1722727800@pointfm.com
SUMMARY:Dark Side of the Mountain @ Jay Peak's Stateside Amphitheater
DESCRIPTION:Dark Side of the Mountain \nSaturday\, August 3 \nDoors 6pm / Show starts 7:30pm \nStateside Amphitheater | Jay Peak Resort\, VT \n-Get Tickets and Event Info Here- \n  \nA Vermont born supergroup\, DSOTM celebrates the inspired\, emotive and deeply psychedelic performances of live Floyd in the 60s and 70s\, a sound that’s greatly enhanced by mind blowing digital projections from pioneering Lighting Director\, Dave Pond. The brainchild of drummer Matt Burr (Grace Potter & the Nocturnals) and co-lead by guitarist Bob Wagner (Kat Wright)\, DSOTM has forged a live audio and visual celebration that must be experienced in the flesh. Expect special guest sit-ins\, freak outs and fan favorites from Dark Side of the Moon\, Animals\, The Wall\, Meddle\, Wish You Were Here as well as Syd Barret era psychedelia from Piper At The Gates of Dawn and A Saucerful Of Secrets. \nDARK SIDE OF THE MOUNTAIN IS:\n\nBob Wagner – guitar\, vocals\nMatt Burr – drums\nJosh Weinstein – bass\, backing vocals\nDan Munzing – keyboards\, synthesizers\nMatt Hagen – guitar\nDave Pond – Digital projectionist / LD\n\nFEATURING SPECIAL GUESTS:\n\nKat Wright – lead and backing vocals\nAshely Betton – backing vocals\nMike Fried – keyboards\nJake Whitesell – saxophone\n\nPrevious performances have featured special guests performances by Grace Potter\, Paul Hoffman (Greensky Bluegrass)\, Marco Benevento\, Kat Wright\, James Casey (Trey Anastasio Band) and many more. \nMUSIC SCHEDULE:\nSeth Yacovone Blues Trio   7:30-8:30 \nDark Side of The Mountain   9:00-11:30
URL:https://pointfm.com/events/waiting-on-mongo-jay-peaks-stateside-amphitheater/
LOCATION:Jay Peak\, 830 Jay Peak Rd\, Jay\, VT\, 05859\, United States
END:VEVENT
BEGIN:VEVENT
DTSTART;TZID=America/New_York:20240803T200000
DTEND;TZID=America/New_York:20240803T230000
DTSTAMP:20260419T171820
CREATED:20240530T181135Z
LAST-MODIFIED:20240530T181802Z
UID:106760-1722715200-1722726000@pointfm.com
SUMMARY:The Glorious Sons @ Higher Ground
DESCRIPTION:The Point Welcomes: \nThe Glorious Sons \nA Tour de Point Show\n \n  \nSaturday\, August 3\, 2024   Doors: 7 PM / Show: 8 PM \nHigher Ground | South Burlington\, VT \n– Tickets and Event Info – \n  \nThe Glorious Sons have resolutely manifested all of rock‘n’roll’s most positive principles from their very start–creativity and adventure\, passion and truth\, energy and expression\, individuality\, and spirit of community. Following a four-year journey fraught with multiple stops and starts\, the Kingston\, ON based band returns with Glory\, an album co-produced by frontman Brett Emmons and Frederik Thaae\, that fully captures the depth of their vast artistic vision. \nThe multiple JUNO Award winning\, two-time Canadian certified Platinum and six-time Canadian certified Gold rock group\, have been on an incredible journey\, leading to the meteoric rise of their recognition as one of the commanding forces in rock‘n’roll\, not only at home but globally. With multiple chart-topping hits\, the band has gone from headlining clubs to arenas and festival dates\, steadily cementing their position as “Canada’s Best Export”(Washington Times)\, while garnering critical acclaim and a dedicated fanbase. Glory\, their fourth studio album\, is out now\, and features their latest single\, ‘Speed of Light.’
URL:https://pointfm.com/events/the-glorious-sons-higher-ground-2/
LOCATION:Higher Ground\, 1214 Williston Rd\, South Burlington\, VT\, 05403\, United States
END:VEVENT
END:VCALENDAR