BEGIN:VCALENDAR
VERSION:2.0
PRODID:-//The Point - ECPv5.16.3.1//NONSGML v1.0//EN
CALSCALE:GREGORIAN
METHOD:PUBLISH
X-WR-CALNAME:The Point
X-ORIGINAL-URL:https://pointfm.com
X-WR-CALDESC:Events for The Point
BEGIN:VTIMEZONE
TZID:America/New_York
BEGIN:DAYLIGHT
TZOFFSETFROM:-0500
TZOFFSETTO:-0400
TZNAME:EDT
DTSTART:20240310T070000
END:DAYLIGHT
BEGIN:STANDARD
TZOFFSETFROM:-0400
TZOFFSETTO:-0500
TZNAME:EST
DTSTART:20241103T060000
END:STANDARD
END:VTIMEZONE
BEGIN:VEVENT
DTSTART;TZID=America/New_York:20240914T190000
DTEND;TZID=America/New_York:20240915T000000
DTSTAMP:20260425T225506
CREATED:20220527T195237Z
LAST-MODIFIED:20240730T122959Z
UID:105015-1726340400-1726358400@pointfm.com
SUMMARY:RockFire FireWalk @ Millstone Hill
DESCRIPTION:  \nRockFire FireWalk \n  \nSaturday\, September 14  /  7PM to MIDNIGHT \nLodge at Millstone Hill\, Websterville\, VT \n– Tickets and Event Info – \n\n  \nRockFire is a unique combination of art\, music and fire on a monumental scale\, celebrating Central Vermont’s colorful granite heritage all set in the evocative setting of Millstone Hill’s abandoned quarries and granite industry ruins. First held in 2012 as a fundraiser for the preservation of Barre’s Historic Quarry Lands\, the buzz around this event continues to build. The centerpiece of the event is Firewalk\, a three mile long procession lit by thousands of candles and luminaries with dozens of bonfires\, all leading to variety of fire-lit art installations and 6 live performance stages.
URL:https://pointfm.com/events/rockfire-firewalk-millstone-hill/
LOCATION:Lodge at Millstone Hill\, 59 Little John Road\, Websterville\, VT\, 05678
END:VEVENT
BEGIN:VEVENT
DTSTART;TZID=America/New_York:20240915T200000
DTEND;TZID=America/New_York:20240915T230000
DTSTAMP:20260425T225506
CREATED:20240416T155917Z
LAST-MODIFIED:20240416T155917Z
UID:106720-1726430400-1726441200@pointfm.com
SUMMARY:Spoon @ Higher Ground
DESCRIPTION:The Point Welcomes: \nSpoon \nA Tour de Point Show\n \n  \nSunday\, September 15\, 2024  Doors: 7 PM / Show: 8 PM \nHigher Ground | South Burlington\, VT \n– Tickets and Event Info – \n  \nSpoon\, Austin’s most esteemed rock ambassadors\, have released ten albums to date including a string of five straight top 10 records: Ga Ga Ga Ga Ga (2007)\, Transference (2010)\, They Want My Soul (2014)\, Hot Thoughts (2017)\, and Lucifer on the Sofa (2022). \nLucifer on the Sofa earned the band its first-ever GRAMMY nomination (Best Rock Album) and was praised by Rolling Stone as “The best thing they’ve ever done.” \nHailed by TIME as “one of the greatest American rock bands”\, Spoon topped Metacritic’s chart as the single most critically acclaimed band of the aughts. \nIn 2019\, Spoon released Everything Hits At Once: The Best of Spoon\, which was praised by NPR as a “convincing argument for Spoon being one of their era’s most distinctive and excellent rock bands.” That same year\, Fender released the Britt Daniel Signature Telecaster Thinline as part of their artist signature electric guitar series – highlighting the enduring influence of Daniel’s precision-punk style that has helped fuel Spoon to become what the Guardian calls ‘one of the finest bands of their generation.’
URL:https://pointfm.com/events/spoon-higher-ground/
LOCATION:Higher Ground
END:VEVENT
END:VCALENDAR