BEGIN:VCALENDAR
VERSION:2.0
PRODID:-//The Point - ECPv5.16.3.1//NONSGML v1.0//EN
CALSCALE:GREGORIAN
METHOD:PUBLISH
X-WR-CALNAME:The Point
X-ORIGINAL-URL:https://pointfm.com
X-WR-CALDESC:Events for The Point
BEGIN:VTIMEZONE
TZID:America/New_York
BEGIN:DAYLIGHT
TZOFFSETFROM:-0500
TZOFFSETTO:-0400
TZNAME:EDT
DTSTART:20190310T070000
END:DAYLIGHT
BEGIN:STANDARD
TZOFFSETFROM:-0400
TZOFFSETTO:-0500
TZNAME:EST
DTSTART:20191103T060000
END:STANDARD
END:VTIMEZONE
BEGIN:VEVENT
DTSTART;TZID=America/New_York:20190202T200000
DTEND;TZID=America/New_York:20190202T223000
DTSTAMP:20260419T225104
CREATED:20181109T211517Z
LAST-MODIFIED:20181120T211625Z
UID:98403-1549137600-1549146600@pointfm.com
SUMMARY:A Beatles Tribute @ Higher Ground
DESCRIPTION:The Point Welcomes: \nA Beatles Tribute: Spencer Albee & His Friends are The Walrus \nA Tour de Point Show \nSaturday\, February 2nd @ 8:00 pm \n-Get Tickets and Event Info Here- \nThis show is being moved to Saturday\, February 2. All August 11 tickets will be honored at the February 2 performance. If unable to attend the February 2 performance\, please contact the HG box office prior to August 11 for a refund. Apologies for any inconvenience. \nPortland Maine’s Spencer Albee (Rustic Overtones\, AS FAST AS) leads an all star band through Beatles hits and deep cuts in what Rolling Stone calls “a mind blowing tribute.” The band will be joined by some of Burlington’s favorite musicians as guest vocalists\, The Maine Youth Rock Orchestra and The Fogcutters horns. The music of The Beatles is presented respectfully and energetically with all the orchestration\, bells and whistles and none of the wigs\, fake accents or costumes. Founded in 2002.
URL:https://pointfm.com/events/a-beatles-tribute-higher-ground/
END:VEVENT
END:VCALENDAR