BEGIN:VCALENDAR
VERSION:2.0
PRODID:-//The Point - ECPv5.16.3.1//NONSGML v1.0//EN
CALSCALE:GREGORIAN
METHOD:PUBLISH
X-WR-CALNAME:The Point
X-ORIGINAL-URL:https://pointfm.com
X-WR-CALDESC:Events for The Point
BEGIN:VTIMEZONE
TZID:America/New_York
BEGIN:DAYLIGHT
TZOFFSETFROM:-0500
TZOFFSETTO:-0400
TZNAME:EDT
DTSTART:20180311T070000
END:DAYLIGHT
BEGIN:STANDARD
TZOFFSETFROM:-0400
TZOFFSETTO:-0500
TZNAME:EST
DTSTART:20181104T060000
END:STANDARD
END:VTIMEZONE
BEGIN:VEVENT
DTSTART;TZID=America/New_York:20181010T193000
DTEND;TZID=America/New_York:20181010T223000
DTSTAMP:20260421T125913
CREATED:20180926T154210Z
LAST-MODIFIED:20180926T154210Z
UID:98155-1539199800-1539210600@pointfm.com
SUMMARY:Arlo Guthrie @ Spruce Peak Performing Arts Center
DESCRIPTION:Arlo Guthrie: Alice’s Restaurant Tour\n \nWednesday\, October 10th @  7:30PM \nSpruce Peak Performing Arts Center | Stowe VT \n-Get Tickets and Event Info – \nAlice’s Restaurant – Back By Popular Demand Tour coincides with the 50th Anniversary of the film “Alice’s Restaurant” originally released in 1969\, starring Arlo as himself\, directed by Arthur Penn. Arlo and his son Abe will be joined onstage with longtime collaborators Terry “A La Berry” Hall (drums)\, Steve Ide (guitar\, vocals) and Carol Ide (vocals\, percussion) of his former acclaimed band Shenandoah. Arlo’s daughter Sarah Lee Guthrie\, a lauded singer-songwriter in her own right\, opens the shows.
URL:https://pointfm.com/events/arlo-guthrie-spruce-peak-performing-arts-center/
END:VEVENT
END:VCALENDAR