BEGIN:VCALENDAR
VERSION:2.0
PRODID:-//The Point - ECPv5.16.3.1//NONSGML v1.0//EN
CALSCALE:GREGORIAN
METHOD:PUBLISH
X-WR-CALNAME:The Point
X-ORIGINAL-URL:https://pointfm.com
X-WR-CALDESC:Events for The Point
BEGIN:VTIMEZONE
TZID:America/New_York
BEGIN:DAYLIGHT
TZOFFSETFROM:-0500
TZOFFSETTO:-0400
TZNAME:EDT
DTSTART:20190310T070000
END:DAYLIGHT
BEGIN:STANDARD
TZOFFSETFROM:-0400
TZOFFSETTO:-0500
TZNAME:EST
DTSTART:20191103T060000
END:STANDARD
END:VTIMEZONE
BEGIN:VEVENT
DTSTART;TZID=America/New_York:20190503T193000
DTEND;TZID=America/New_York:20190504T223000
DTSTAMP:20260423T180852
CREATED:20190325T204007Z
LAST-MODIFIED:20190325T204007Z
UID:100335-1556911800-1557009000@pointfm.com
SUMMARY:Ballet and Beyond @ Lebanon Opera House
DESCRIPTION:Ballet and Beyond | Harald Lander’s “Etudes” \nFriday\, May 3rd @ 7:30 pm \nSaturday\, May 4th @ 7:30 pm \nLebanon Opera House | Lebanon\, NH \n-Get Tickets and Event Info Here- \n\nCity Center Ballet celebrates 20 years of professional dance with a stunning evening of classic and contemporary repertoire. \nExperience the precision and beauty of classic ballet with Harald Lander’s “Etudes” staged by Jennifer Henderson. Then shatter expectations with three world-premiere contemporary dances created by emerging New York City choreographers. This versatile and wide-ranging performance goes beyond tradition to reveal the immense power of dance and the ongoing artistic legacy of City Center Ballet. \nAn on-stage reception follows Saturday’s performance. RSVP required; go to citycenterballet.org to make your reservation. \nWhile this show is suitable for all ages\, ages 8+ will be most engaged.
URL:https://pointfm.com/events/ballet-and-beyond-lebanon-opera-house/
END:VEVENT
END:VCALENDAR