BEGIN:VCALENDAR
VERSION:2.0
PRODID:-//The Point - ECPv5.16.3.1//NONSGML v1.0//EN
CALSCALE:GREGORIAN
METHOD:PUBLISH
X-WR-CALNAME:The Point
X-ORIGINAL-URL:https://pointfm.com
X-WR-CALDESC:Events for The Point
BEGIN:VTIMEZONE
TZID:America/New_York
BEGIN:DAYLIGHT
TZOFFSETFROM:-0500
TZOFFSETTO:-0400
TZNAME:EDT
DTSTART:20190310T070000
END:DAYLIGHT
BEGIN:STANDARD
TZOFFSETFROM:-0400
TZOFFSETTO:-0500
TZNAME:EST
DTSTART:20191103T060000
END:STANDARD
END:VTIMEZONE
BEGIN:VEVENT
DTSTART;TZID=America/New_York:20190711T180000
DTEND;TZID=America/New_York:20190711T200000
DTSTAMP:20260419T121135
CREATED:20190503T150531Z
LAST-MODIFIED:20190503T150531Z
UID:100523-1562868000-1562875200@pointfm.com
SUMMARY:Battery Park Free Concert Series: Bailen
DESCRIPTION:BAILEN’s otherworldly musicality springs from a very deep well\, in fact\, it’s in their DNA. Raised in New York by their classically trained parents\, Daniel\, David and Julia immersed themselves in the family’s diverse record collection. The group’s highly collaborative songs are formed by three very different individuals who were all inspired by literature and a love of language. The resulting confident\, meticulous songcraft of Thrilled To Be Here is rooted in the young group’s preternatural dexterity\, insight and lyrical bite.
URL:https://pointfm.com/events/battery-park-free-concert-series-bailen/
LOCATION:Battery Park\, Battery Park Extension\, Burlington\, Vermont\, 05601
END:VEVENT
END:VCALENDAR