BEGIN:VCALENDAR
VERSION:2.0
PRODID:-//The Point - ECPv5.16.3.1//NONSGML v1.0//EN
CALSCALE:GREGORIAN
METHOD:PUBLISH
X-WR-CALNAME:The Point
X-ORIGINAL-URL:https://pointfm.com
X-WR-CALDESC:Events for The Point
BEGIN:VTIMEZONE
TZID:America/New_York
BEGIN:DAYLIGHT
TZOFFSETFROM:-0500
TZOFFSETTO:-0400
TZNAME:EDT
DTSTART:20180311T070000
END:DAYLIGHT
BEGIN:STANDARD
TZOFFSETFROM:-0400
TZOFFSETTO:-0500
TZNAME:EST
DTSTART:20181104T060000
END:STANDARD
END:VTIMEZONE
BEGIN:VEVENT
DTSTART;TZID=America/New_York:20181117T210000
DTEND;TZID=America/New_York:20181117T233000
DTSTAMP:20260420T012119
CREATED:20181023T194621Z
LAST-MODIFIED:20181109T201550Z
UID:98312-1542488400-1542497400@pointfm.com
SUMMARY:Bellas Bartok @ Zen Barn
DESCRIPTION:The Point Welcomes: \nBellas Bartok \nA Tour de Point Show \nSaturday\, November 17th @ 9:00 pm \nZen Barn | Waterbury Center\, VT \n-Get Tickets and Event Info Here- \nZenbarn presents Bella’s Bartok for our 2nd anniversary party! Expect a night to remember with incredible music\, food\, drink and spontaneity to celebrate another year in the life of our li’l business… more details to come…\n———\nStarted in the dimly lit alleyways of Great Barrington\, MA\, Bella’s Bartok gradually evolved from street-punk performers to an electric\, brass-filled\, accordion-based spectacle that has continued to entertain audiences for nearly a decade. The line-up includes: Asher Putnam (Lead Vocals)\, Dan Niederhauser (Bass\, Vocals)\, Amory Drennan (Trombone\, Vocals)\, Crisco (Drums/Percussion\, Vocals)\, Gershon Rosen (Trumpet\, Vocals)\, Alex Kogut (Accordion\, Keyboard\, Vocals) and Lucas Solórzano (Guitar\, Vocals). The band has shared the stage with musicians and acts such as Rubblebucket\, Red Baraat\, The Indigo Girls\, Larry & His Flask\, The Suitcase Junket\, Parsonsfield\, And the Kids\, Kanye\, Rough Francis\, Beau Sasser’s Escape Plan\, West End Blend\, Adam Ezra Group\, Meat Puppets\, World Inferno/Friendship Society\, Rupa & the April Fishes\, Arc Iris\, and many more. Find Bella’s Bartok on a variety of stages\, at a myriad of festivals\, or on the street across the continental United States. Audiences often pick up on the band’s main influences such as Frank Zappa\, System of a Down\, Tom Waits and Oingo Boingo. \n 
URL:https://pointfm.com/events/bellas-bartok-zen-barn/
END:VEVENT
END:VCALENDAR