BEGIN:VCALENDAR
VERSION:2.0
PRODID:-//The Point - ECPv5.16.3.1//NONSGML v1.0//EN
CALSCALE:GREGORIAN
METHOD:PUBLISH
X-WR-CALNAME:The Point
X-ORIGINAL-URL:https://pointfm.com
X-WR-CALDESC:Events for The Point
BEGIN:VTIMEZONE
TZID:America/New_York
BEGIN:DAYLIGHT
TZOFFSETFROM:-0500
TZOFFSETTO:-0400
TZNAME:EDT
DTSTART:20180311T070000
END:DAYLIGHT
BEGIN:STANDARD
TZOFFSETFROM:-0400
TZOFFSETTO:-0500
TZNAME:EST
DTSTART:20181104T060000
END:STANDARD
END:VTIMEZONE
BEGIN:VEVENT
DTSTART;TZID=America/New_York:20181006T200000
DTEND;TZID=America/New_York:20181006T200000
DTSTAMP:20260421T125756
CREATED:20180926T154052Z
LAST-MODIFIED:20180926T154052Z
UID:98154-1538856000-1538856000@pointfm.com
SUMMARY:Ben Howard @ Bell Centre
DESCRIPTION:Ben Howard\n \nSaturday\, October 6th @ 8PM \nBell Centre | Montreal Canada \n– get tickets and event info here –
URL:https://pointfm.com/events/ben-howard-bell-centre/
END:VEVENT
END:VCALENDAR