BEGIN:VCALENDAR
VERSION:2.0
PRODID:-//The Point - ECPv5.16.3.1//NONSGML v1.0//EN
CALSCALE:GREGORIAN
METHOD:PUBLISH
X-WR-CALNAME:The Point
X-ORIGINAL-URL:https://pointfm.com
X-WR-CALDESC:Events for The Point
BEGIN:VTIMEZONE
TZID:America/New_York
BEGIN:DAYLIGHT
TZOFFSETFROM:-0500
TZOFFSETTO:-0400
TZNAME:EDT
DTSTART:20180311T070000
END:DAYLIGHT
BEGIN:STANDARD
TZOFFSETFROM:-0400
TZOFFSETTO:-0500
TZNAME:EST
DTSTART:20181104T060000
END:STANDARD
END:VTIMEZONE
BEGIN:VEVENT
DTSTART;TZID=America/New_York:20181025T193000
DTEND;TZID=America/New_York:20181025T233000
DTSTAMP:20260420T235142
CREATED:20180926T155500Z
LAST-MODIFIED:20181010T142451Z
UID:98163-1540495800-1540510200@pointfm.com
SUMMARY:Black Violin @ Barre Opera House
DESCRIPTION:Black Violin \nThursday\, October 25th @ 7:30PM \nBarre Opera House | Barre\, VT \n– get tickets and event info here – \nHigh-energy\, classically trained musicians renowned for their ability to meld highbrow and pop culture into a single act\, Black Violin mines the synergy among classical\, jazz\, blues\, R&B\, and hip-hop. With millions of YouTube followers\, virtuoso violinists Kev Marcus (Kevin Sylvester) and Wil B (Wilner Baptiste)\, plus TK\, their masterful accompanying DJ and drummer Matt Stokes\, are redefining the music world\, one string at a time. Part maestro\, part emcee\, this revolutionary group\, declared one of the “hottest bands of SXSW\,” encourages audiences to look at things from a different perspective\, to show what can happen when you color way outside the lines. \nBaptiste puts it this way: “They had little shindigs going on back in the days\, right? They needed music. So just think of it that way. Like\, I’m this guy\, I own this big palace — “Mozart – listen\, what can you whip up\, man? I need some new tunes.’ ”\n“So it’s the same kind of thing with hip-hop\,” Sylvester offers. “It’s just like\, I need Grandmaster Flash to DJ my party. You know\, hip-hop and classical\, in a lot of ways\, are both party music for different eras.” \nThe band’s most recent record\, Stereotypes\, debuted at #1 on the Billboard Classical Crossover Chart and #4 on the Billboard R&B Chart. NPR praised the album and band\, saying “their music will keep classical music alive for the next generation.” \n 
URL:https://pointfm.com/events/black-violin-barre-opera-house/
END:VEVENT
END:VCALENDAR