BEGIN:VCALENDAR
VERSION:2.0
PRODID:-//The Point - ECPv5.16.3.1//NONSGML v1.0//EN
CALSCALE:GREGORIAN
METHOD:PUBLISH
X-WR-CALNAME:The Point
X-ORIGINAL-URL:https://pointfm.com
X-WR-CALDESC:Events for The Point
BEGIN:VTIMEZONE
TZID:America/New_York
BEGIN:DAYLIGHT
TZOFFSETFROM:-0500
TZOFFSETTO:-0400
TZNAME:EDT
DTSTART:20180311T070000
END:DAYLIGHT
BEGIN:STANDARD
TZOFFSETFROM:-0400
TZOFFSETTO:-0500
TZNAME:EST
DTSTART:20181104T060000
END:STANDARD
END:VTIMEZONE
BEGIN:VEVENT
DTSTART;TZID=America/New_York:20181130T190000
DTEND;TZID=America/New_York:20181130T220000
DTSTAMP:20260419T193016
CREATED:20181023T201622Z
LAST-MODIFIED:20181109T201638Z
UID:98319-1543604400-1543615200@pointfm.com
SUMMARY:Boston Children's Chorus @ United Community Church
DESCRIPTION:Boston Children’s Chorus \nFriday\, November 30th @ 7:00 pm \nUnited Community Church | St. Jonhsbury\, VT \n-Get Tickets and Event Info Here- \nThe Boston Children’s Chorus is a world-class music troupe that unites children ages 7-18 across differences of race\, religion and economic status. Their annual holiday concerts entertain all ages and help inspire the season. \nBoston Children’s Chorus international cultural exchange tours include Japan\, Mexico\, Jordan\, England\, Scotland\, Vietnam\, Cambodia\, the Czech Republic and Germany. Invited as featured performers on the National Public Radio program “From the Top\,” the BCC also won the 2013 National Arts and Humanities Youth Program Award\, distinguishing the chorus as one of the top arts and humanities-based programs in the nation. BCC accepted the award from First Lady Michelle Obama at the White House. \n“A vision of artistic excellence and social diversity fulfilled.” – Boston Globe. \nWith special guests The Hilltones of St. Johnsbury Academy\, one of northern New England’s finest youth choral ensembles.
URL:https://pointfm.com/events/boston-childrens-chorus-united-community-church/
END:VEVENT
END:VCALENDAR