BEGIN:VCALENDAR
VERSION:2.0
PRODID:-//The Point - ECPv5.16.3.1//NONSGML v1.0//EN
CALSCALE:GREGORIAN
METHOD:PUBLISH
X-WR-CALNAME:The Point
X-ORIGINAL-URL:https://pointfm.com
X-WR-CALDESC:Events for The Point
BEGIN:VTIMEZONE
TZID:America/New_York
BEGIN:DAYLIGHT
TZOFFSETFROM:-0500
TZOFFSETTO:-0400
TZNAME:EDT
DTSTART:20190310T070000
END:DAYLIGHT
BEGIN:STANDARD
TZOFFSETFROM:-0400
TZOFFSETTO:-0500
TZNAME:EST
DTSTART:20191103T060000
END:STANDARD
END:VTIMEZONE
BEGIN:VEVENT
DTSTART;TZID=America/New_York:20190524T190000
DTEND;TZID=America/New_York:20190524T233000
DTSTAMP:20260423T071024
CREATED:20190124T205653Z
LAST-MODIFIED:20190318T151008Z
UID:99116-1558724400-1558740600@pointfm.com
SUMMARY:Brandi Carlile @ Shelburne Museum {{SOLD OUT}}
DESCRIPTION:Higher Ground and evenko Present:  \nBrandi Carlile \nFriday\, May 24th @ 7:00 pm {{SOLD OUT}} \nBen and Jerry’s Concerts on The Green at Shelburne Museum | Shelburne\, VT \n-Get Tickets and Event Info Here- \nBy The Way\, I Forgive You is not an album about forgiveness in the easy sense—where someone has hurt you and then suddenly there’s a great reconciliation and a remorse-filled scene with two people running across the golden wheat field towards an embrace that somehow undoes a lifetime of pain and damage\, as if the past has no meaning. It’s about radical acceptance (not to be confused with complacency) and unconditional love. \nWhoever is reading this\, your parents will die. You may have been hurt or loved by them\, probably both. But can you forgive them for leaving in the end? \nWe are a powerful generation witnessing war and division like never before\, yet somehow this is the safest time to be alive in human history. Can we love one another as ourselves? More importantly\, can we love ourselves at all? \nThe songs alone aren’t universal messages\, they are personal stories of our parents and childhood\, our divorces\, oppressive religion\, the fact that marriage is hard and having children is fucking terrifying\, even the sting of death. It is the story of forgiveness\, that despite all this keeps us innocently climbing out of bed every morning open to love—big terrible trembling love. \nI don’t love you because you’ve done what I think you should do with your life. I love you whatever you do\, but I’ve got a life to live too. \nAnd\, by the way\, I forgive you.
URL:https://pointfm.com/events/brandi-carlile-shelburne-museum-2/
END:VEVENT
END:VCALENDAR