BEGIN:VCALENDAR
VERSION:2.0
PRODID:-//The Point - ECPv5.16.3.1//NONSGML v1.0//EN
CALSCALE:GREGORIAN
METHOD:PUBLISH
X-WR-CALNAME:The Point
X-ORIGINAL-URL:https://pointfm.com
X-WR-CALDESC:Events for The Point
BEGIN:VTIMEZONE
TZID:America/New_York
BEGIN:DAYLIGHT
TZOFFSETFROM:-0500
TZOFFSETTO:-0400
TZNAME:EDT
DTSTART:20190310T070000
END:DAYLIGHT
BEGIN:STANDARD
TZOFFSETFROM:-0400
TZOFFSETTO:-0500
TZNAME:EST
DTSTART:20191103T060000
END:STANDARD
END:VTIMEZONE
BEGIN:VEVENT
DTSTART;TZID=America/New_York:20190609T200000
DTEND;TZID=America/New_York:20190609T230000
DTSTAMP:20260421T004756
CREATED:20190315T163048Z
LAST-MODIFIED:20190606T174308Z
UID:100295-1560110400-1560121200@pointfm.com
SUMMARY:Brian Wilson @ Flynn Center  ((CANCELLED))
DESCRIPTION:Burlington Discover Jazz Festival and Higher Ground present: \nBrian Wilson- Pet Sounds: The Final Performances \nSunday\, June 9th @ 8:00 pm  ((CANCELLED) \nFlynn Center | Burlington\, VT \n-Get Tickets and Event Info Here- \nHe is one of popular music’s most deeply revered figures\, the main creative force behind some of the most cherished recordings in rock history. Indeed\, it is no exaggeration to call Brian Wilson one of the most influential composers of the last century. Wilson’s remarkable journey began in a modest Hawthorne\, California home that was filled with music. His mom and dad both played piano\, and as a young “boy soprano\,” Brian’s vocal gift was immediately evident. He had also started singing harmonies…literally “in their room”…with his two younger brothers (Dennis and Carl). As a teen in the 1950s\, he became obsessed with the harmonic blend of groups like the Four Freshmen\, and then\, in the early 1960s\, inspired to combine multi-part vocal harmony with the rock rhythms of Chuck Berry\, Brian found his place in the musical sun. He was barely out of his teens when he began to create some of the most beloved records ever… nine consecutive “gold” albums that featured such classics as “Surfer Girl\,” “In My Room\,” “I Get Around\,” “Don’t Worry Baby\,” “Fun\, Fun\, Fun\,” “Help Me Rhonda” and “California Girls”…just to name a handful of the more than two dozen Top 40 hits Brian co-wrote\, arranged\, produced and performed on with his family band\, the Beach Boys.
URL:https://pointfm.com/events/brian-wilson-flynn-center/
END:VEVENT
END:VCALENDAR