BEGIN:VCALENDAR
VERSION:2.0
PRODID:-//The Point - ECPv5.16.3.1//NONSGML v1.0//EN
CALSCALE:GREGORIAN
METHOD:PUBLISH
X-WR-CALNAME:The Point
X-ORIGINAL-URL:https://pointfm.com
X-WR-CALDESC:Events for The Point
BEGIN:VTIMEZONE
TZID:America/New_York
BEGIN:DAYLIGHT
TZOFFSETFROM:-0500
TZOFFSETTO:-0400
TZNAME:EDT
DTSTART:20190310T070000
END:DAYLIGHT
BEGIN:STANDARD
TZOFFSETFROM:-0400
TZOFFSETTO:-0500
TZNAME:EST
DTSTART:20191103T060000
END:STANDARD
END:VTIMEZONE
BEGIN:VEVENT
DTSTART;TZID=America/New_York:20190711T140000
DTEND;TZID=America/New_York:20190728T210000
DTSTAMP:20260419T121059
CREATED:20190719T193643Z
LAST-MODIFIED:20190723T190606Z
UID:101049-1562853600-1564347600@pointfm.com
SUMMARY:Cabaret @ Lost Nation Theater
DESCRIPTION:Cabaret \nTony- Award Winning Musical \nby Kander & Ebb \nJuly 11th – 28th \nThursday- Saturday @ 7:30 pm \nSunday @ 2:00 pm \nLost Nation Theater | Montpelier\, VT \n-Get Tickets and Event Info Here- \nIn a Berlin nightclub\, as the 1920’s draw to a close\, the Kit Kat Klub’s alluring Emcee invites us to forget all our troubles at the CABARET.\nExplores the dark\, heady\, & tumultuous life of Berlin’s natives and expats as Germany slowly yields to the emerging Third Reich.\nLove\, humor\, sex\, politics\, transcendent music and Fosse-inspired Dance!\nFeaturing the choreography of Taryn Noelle.  Directed by Tim Tavcar. \n 
URL:https://pointfm.com/events/cabaret-lost-nation-theater/
LOCATION:Lost Nation Theatre\, 39 Main St\, Montpelier\, VT\, 05602
END:VEVENT
END:VCALENDAR