BEGIN:VCALENDAR
VERSION:2.0
PRODID:-//The Point - ECPv5.16.3.1//NONSGML v1.0//EN
CALSCALE:GREGORIAN
METHOD:PUBLISH
X-WR-CALNAME:The Point
X-ORIGINAL-URL:https://pointfm.com
X-WR-CALDESC:Events for The Point
BEGIN:VTIMEZONE
TZID:America/New_York
BEGIN:DAYLIGHT
TZOFFSETFROM:-0500
TZOFFSETTO:-0400
TZNAME:EDT
DTSTART:20190310T070000
END:DAYLIGHT
BEGIN:STANDARD
TZOFFSETFROM:-0400
TZOFFSETTO:-0500
TZNAME:EST
DTSTART:20191103T060000
END:STANDARD
END:VTIMEZONE
BEGIN:VEVENT
DTSTART;TZID=America/New_York:20190504T200000
DTEND;TZID=America/New_York:20190504T230000
DTSTAMP:20260423T152900
CREATED:20190418T201646Z
LAST-MODIFIED:20190418T201646Z
UID:100485-1557000000-1557010800@pointfm.com
SUMMARY:Comedian Lisa Lampanelli @ Strand Center
DESCRIPTION:Lisa Lampanelli’s “LOSIN’ IT!” \nSaturday\, May 4th @ 8:00 pm \nStrand Center for the Arts | Plattsburgh\, NY \n-Get Tickets and Event Info Here- \nProduced by Groundswell Theatricals\, Inc\, Lisa Lampanelli’s LOSIN’ IT! is an intimate collection of humorous observations and real-life stories curated and performed by Lisa and a few of her friends. Inspired by her work with The Moth Radio Hour\, Lisa has created a heartfelt theatrical evening focusing on the issues of weight\, body image\, and “losin’ it!.” Performed in the spirit of The Vagina Monologues and Love\, Loss\, & What I Wore\, Lisa and friends enchant theatergoers with hilarious\, touching anecdotes about their own weight struggles\, and lively audience interaction. \nLOSIN’ IT! is a departure from the cutting comedy Lisa has long been known for.  Of the change of direction\, she said: “I decided stand-up comedy really wasn’t for me anymore. It wasn’t making my heart happy. So\, I created LOSIN’ IT!\, a show using comedy to talk about weight and body issues\, which are things I’ve struggled with for years. This is so much more fulfilling!” \nWith a career spanning more than 30 years\, Lisa Lampanelli was a constant on the comedy scene\, specializing in insult comedy. With numerous tours\, Grammy nominations\, and national TV guest appearances and specials under her belt\, Lisa made national headlines in 2012 when she lost more than 100 pounds with the help of bariatric surgery. She went on to speak with unflinching honesty about her lifelong food and body-image issues and has since gone from insulter to inspirer. \n 
URL:https://pointfm.com/events/comedian-lisa-lampanelli-strand-center/
END:VEVENT
END:VCALENDAR