BEGIN:VCALENDAR
VERSION:2.0
PRODID:-//The Point - ECPv5.16.3.1//NONSGML v1.0//EN
CALSCALE:GREGORIAN
METHOD:PUBLISH
X-WR-CALNAME:The Point
X-ORIGINAL-URL:https://pointfm.com
X-WR-CALDESC:Events for The Point
BEGIN:VTIMEZONE
TZID:America/New_York
BEGIN:DAYLIGHT
TZOFFSETFROM:-0500
TZOFFSETTO:-0400
TZNAME:EDT
DTSTART:20180311T070000
END:DAYLIGHT
BEGIN:STANDARD
TZOFFSETFROM:-0400
TZOFFSETTO:-0500
TZNAME:EST
DTSTART:20181104T060000
END:STANDARD
END:VTIMEZONE
BEGIN:VEVENT
DTSTART;TZID=America/New_York:20181013T200000
DTEND;TZID=America/New_York:20181013T230000
DTSTAMP:20260421T071425
CREATED:20180926T154834Z
LAST-MODIFIED:20180926T154834Z
UID:98158-1539460800-1539471600@pointfm.com
SUMMARY:David Bowie's Blackstar @ Flynn Theater
DESCRIPTION:David Bowie’s Blackstar \nThe Ambient Orchestra featuring Maya Beiser \nSaturday\, October 13th @ 8PM \nFlynn Theater | Burlington VT \n– get tickets and event info here – \nShortly after David Bowie’s passing in January 2016\, composer Evan Ziporyn created the Ambient Orchestra to perform Philip Glass’ Bowie-inspired symphonies\, Low and Heroes. Drawing on stunning cellist Maya Beiser as the voice of Bowie\, the overwhelming success of the inaugural concert led Ziporyn to continue exploring the seemingly endless Bowie catalogue. He selected Bowie’s tragically self-aware swan song\, Blackstar—written and recorded in the artist’s final year—to arrange and conduct. The full orchestra channels Bowie’s light-years-ahead music\, rendering the subtleties more subtle as Beiser’s cello interprets Bowie’s lyrics with haunting entrancement. \n 
URL:https://pointfm.com/events/david-bowies-blackstar-flynn-theater/
END:VEVENT
END:VCALENDAR