BEGIN:VCALENDAR
VERSION:2.0
PRODID:-//The Point - ECPv5.16.3.1//NONSGML v1.0//EN
CALSCALE:GREGORIAN
METHOD:PUBLISH
X-WR-CALNAME:The Point
X-ORIGINAL-URL:https://pointfm.com
X-WR-CALDESC:Events for The Point
BEGIN:VTIMEZONE
TZID:America/New_York
BEGIN:DAYLIGHT
TZOFFSETFROM:-0500
TZOFFSETTO:-0400
TZNAME:EDT
DTSTART:20190310T070000
END:DAYLIGHT
BEGIN:STANDARD
TZOFFSETFROM:-0400
TZOFFSETTO:-0500
TZNAME:EST
DTSTART:20191103T060000
END:STANDARD
END:VTIMEZONE
BEGIN:VEVENT
DTSTART;TZID=America/New_York:20190410T193000
DTEND;TZID=America/New_York:20190410T220000
DTSTAMP:20260424T042631
CREATED:20190328T133030Z
LAST-MODIFIED:20190328T133030Z
UID:100379-1554924600-1554933600@pointfm.com
SUMMARY:David Bromberg Quintet
DESCRIPTION:Join us in The Double E Performance Centers’ T Rex Theater for a special evening with Americana godfather\, David Bromberg. Sitting back in our comfy red seats\, we hope you’ll enjoy the music that David and his Quintet bring to our home here in Essex\, Vermont! \nDoors will open roughly an hour before the performance begins. You’re invited to join us for dinner before the show at The Mad Taco\, which occupies our lobby.
URL:https://pointfm.com/events/david-bromberg-quintet/
LOCATION:The Double E: T Rex Theater\, 21 Essex Way\, Essex Junction\, VT\, 05425\, United States
END:VEVENT
END:VCALENDAR