BEGIN:VCALENDAR
VERSION:2.0
PRODID:-//The Point - ECPv5.16.3.1//NONSGML v1.0//EN
CALSCALE:GREGORIAN
METHOD:PUBLISH
X-WR-CALNAME:The Point
X-ORIGINAL-URL:https://pointfm.com
X-WR-CALDESC:Events for The Point
BEGIN:VTIMEZONE
TZID:America/New_York
BEGIN:DAYLIGHT
TZOFFSETFROM:-0500
TZOFFSETTO:-0400
TZNAME:EDT
DTSTART:20190310T070000
END:DAYLIGHT
BEGIN:STANDARD
TZOFFSETFROM:-0400
TZOFFSETTO:-0500
TZNAME:EST
DTSTART:20191103T060000
END:STANDARD
END:VTIMEZONE
BEGIN:VEVENT
DTSTART;TZID=America/New_York:20190613T190000
DTEND;TZID=America/New_York:20190613T220000
DTSTAMP:20260420T220830
CREATED:20190304T204345Z
LAST-MODIFIED:20190304T204345Z
UID:100253-1560452400-1560463200@pointfm.com
SUMMARY:David Crosby & Sky Trails Band @ Lebanon Opera House
DESCRIPTION:David Crosby & Sky Trails Band \nThursday\, June 13th @ 7:00 pm \nLebanon Opera House | Lebanon\, NH \n-Get Tickets and Event Info Here- \nDavid Crosby—two-time Rock & Roll Hall of Famer and co-founder of the Byrds\, and Crosby\, Stills & Nash—is hitting the road with five musical friends\, collectively and affectionately known as the Sky Trails Band. \nJames Raymond on keyboards\, Mai Leisz on bass\, Steve DiStanislao on drums\, Jeff Pevar on guitar\, and Michelle Willis on keyboards/vocals. \nCrosby is in the midst of an incredibly creative period\, showcasing his skills as a brilliant songwriter. On this tour\, he will be performing some of his greatest hits alongside material from his recent Sky Trails album\, plus a few surprises.
URL:https://pointfm.com/events/david-crosby-sky-trails-band-lebanon-opera-house/
END:VEVENT
END:VCALENDAR