BEGIN:VCALENDAR
VERSION:2.0
PRODID:-//The Point - ECPv5.16.3.1//NONSGML v1.0//EN
CALSCALE:GREGORIAN
METHOD:PUBLISH
X-WR-CALNAME:The Point
X-ORIGINAL-URL:https://pointfm.com
X-WR-CALDESC:Events for The Point
BEGIN:VTIMEZONE
TZID:America/New_York
BEGIN:DAYLIGHT
TZOFFSETFROM:-0500
TZOFFSETTO:-0400
TZNAME:EDT
DTSTART:20190310T070000
END:DAYLIGHT
BEGIN:STANDARD
TZOFFSETFROM:-0400
TZOFFSETTO:-0500
TZNAME:EST
DTSTART:20191103T060000
END:STANDARD
END:VTIMEZONE
BEGIN:VEVENT
DTSTART;TZID=America/New_York:20190618T190000
DTEND;TZID=America/New_York:20190618T223000
DTSTAMP:20260420T150610
CREATED:20181130T203336Z
LAST-MODIFIED:20181212T195542Z
UID:98493-1560884400-1560897000@pointfm.com
SUMMARY:Dead & Company @ Saratoga Performing Arts Center
DESCRIPTION:Dead & Company \nTuesday\, June 18th @ 7:00 pm \nSaratoga Perfoming Arts Center | Saratoga Springs\, NY \n-Get Tickets and Event Info Here- \nDead & Company was formed in 2015 when the Grateful Dead’s Mickey Hart\, Bill Kreutzmann and Bob Weir joined forces with artist and musician John Mayer\, Allman Brothers’ bassist Oteil Burbridge\, and Fare Thee Well and RatDog keyboardist Jeff Chimenti.  The result was one of the most successful touring bands of the decade.  The inaugural tour kicked off in the fall of 2015 with two sold-out shows at the legendary Madison Square Garden and ending the year with two sold-out performances at the ‘Fabulous’ Forum in Inglewood\, California. \nSince then\, the band has completed five tours\, playing to more than 1.5 million fans\, and has become a record-breaking stadium act. Dead & Company has headlined iconic stadiums across the country including Folsom Field\, Autzen Stadium\, Citi Field\, Fenway Park and Dodger Stadium. Additionally\, the band broke Wrigley Field’s all-time attendance record in 2017. Dead & Company’s \n  \n 
URL:https://pointfm.com/events/dead-company-saratoga-performing-arts-center/
END:VEVENT
END:VCALENDAR