BEGIN:VCALENDAR
VERSION:2.0
PRODID:-//The Point - ECPv5.16.3.1//NONSGML v1.0//EN
CALSCALE:GREGORIAN
METHOD:PUBLISH
X-WR-CALNAME:The Point
X-ORIGINAL-URL:https://pointfm.com
X-WR-CALDESC:Events for The Point
BEGIN:VTIMEZONE
TZID:America/New_York
BEGIN:DAYLIGHT
TZOFFSETFROM:-0500
TZOFFSETTO:-0400
TZNAME:EDT
DTSTART:20190310T070000
END:DAYLIGHT
BEGIN:STANDARD
TZOFFSETFROM:-0400
TZOFFSETTO:-0500
TZNAME:EST
DTSTART:20191103T060000
END:STANDARD
END:VTIMEZONE
BEGIN:VEVENT
DTSTART;TZID=America/New_York:20190503T193000
DTEND;TZID=America/New_York:20190503T223000
DTSTAMP:20260423T180000
CREATED:20190328T203029Z
LAST-MODIFIED:20190328T203029Z
UID:100382-1556911800-1556922600@pointfm.com
SUMMARY:Della Mae @ Chandler Music Hall
DESCRIPTION:Della Mae \nFriday\, May 3rd @ 7:30 pm \nChandler Music Hall | Randolph\, VT \n-Get Tickets and Event Info Here- \nThe Grammy-nominated Della Mae has established a reputation as a charismatic\, hard-touring live act\, building a large and enthusiastic fan base while racking up massive amounts of critical acclaim. Sensitive yet assertive\, these versatile instrumentalists and vocalists draw from a bottomless well of roots influences to create vibrantly original music that explores timeless lyrical truths. Their unmistakably contemporary relevance places them alongside such tradition- and socially-conscious young acts as the Avett Brothers\, Punch Brothers\, the Lumineers\, and Shovels & Rope. And of special note to regional music fans: guitarist/vocalist Celia Woodsmith is a Vermont native and former member of the celebrated roots duo Avi & Celia.
URL:https://pointfm.com/events/della-mae-chandler-music-hall/
END:VEVENT
END:VCALENDAR