BEGIN:VCALENDAR
VERSION:2.0
PRODID:-//The Point - ECPv5.16.3.1//NONSGML v1.0//EN
CALSCALE:GREGORIAN
METHOD:PUBLISH
X-WR-CALNAME:The Point
X-ORIGINAL-URL:https://pointfm.com
X-WR-CALDESC:Events for The Point
BEGIN:VTIMEZONE
TZID:America/New_York
BEGIN:DAYLIGHT
TZOFFSETFROM:-0500
TZOFFSETTO:-0400
TZNAME:EDT
DTSTART:20260308T070000
END:DAYLIGHT
BEGIN:STANDARD
TZOFFSETFROM:-0400
TZOFFSETTO:-0500
TZNAME:EST
DTSTART:20261101T060000
END:STANDARD
END:VTIMEZONE
BEGIN:VEVENT
DTSTART;TZID=America/New_York:20260330T193000
DTEND;TZID=America/New_York:20260330T223000
DTSTAMP:20260421T040413
CREATED:20260123T163040Z
LAST-MODIFIED:20260123T163040Z
UID:108249-1774899000-1774909800@pointfm.com
SUMMARY:Diana Krall @ The Flynn
DESCRIPTION:The Point Presents \nDiana Krall \nFlynn Main Stage \nMonday\, March 30th @ 7:30 PM \n– Tickets & Info – \n\nDiana Krall is the only jazz singer to have eight albums debut at the top of the Billboard Jazz Albums chart. To date\, her albums have garnered two Grammy® Awards\, ten Juno® Awards and have also earned nine gold\, three platinum and seven multi-platinum albums. Krall’s unique artistry transcends any single musical style and has made her one of the most recognizable artists of our time. As The New York Times recently noted Krall possesses\, “A voice at once cool and sultry\, wielded with a rhythmic sophistication” \nBorn in Nanaimo\, British Columbia\, which is outside of Vancouver\, Krall grew up in the western part of Canada and began studying the piano when she was four years old. By the time she was 15\, she was performing jazz locally and with the encouragement of her father\, a stride pianist with a vast knowledge of such Twenties and Thirties keyboard masters as Fats Waller\, James P. Johnson\, and Earl Hines\, she devoted herself to music. “I think Dad had every recording Fats Waller ever made\,” she says\, “and I tried to learn as many as I could.” \nHer album\, This Dream Of You\, has garnered critical acclaim from fans and press alike. This album is a loving conclusion of Diana’s 25-year working relationship with Tommy LiPuma. Shortly before LiPuma’s passing\, the producer and artist discussed the abundance of great music recorded at their last sessions together. LiPuma was adamant that this music should be completed and issued. Krall and engineer\, Al Schmitt therefore mixed and sequenced the album for the 2020 release and as such\, honored their great and much-missed friend. From this release came the worldwide premiere of “Autumn In New York\,” a cinematic ode to the city\, directed by Diana’s long-time collaborator and friend Mark Seliger\, offering a visual compliment to Krall’s loving and hopeful performance of the song. \nDiana Krall’s recordings have been included in several film soundtracks and she has expanded upon her role as a performer to include songwriting\, producing and arranging and has brought her talents to collaborate with many other artists including Paul McCartney\, Barbra Streisand and Tony Bennett. She tours extensively around the globe to sold out audiences\, appearing at premiere jazz festivals and concert halls throughout North America\, Europe\, Asia and Australia.
URL:https://pointfm.com/events/diana-krall-the-flynn/
LOCATION:Flynn MainStage\, 153 Main Street\, Burlington\, VT\, 05401\, United States
END:VEVENT
END:VCALENDAR