BEGIN:VCALENDAR
VERSION:2.0
PRODID:-//The Point - ECPv5.16.3.1//NONSGML v1.0//EN
CALSCALE:GREGORIAN
METHOD:PUBLISH
X-WR-CALNAME:The Point
X-ORIGINAL-URL:https://pointfm.com
X-WR-CALDESC:Events for The Point
BEGIN:VTIMEZONE
TZID:America/New_York
BEGIN:DAYLIGHT
TZOFFSETFROM:-0500
TZOFFSETTO:-0400
TZNAME:EDT
DTSTART:20190310T070000
END:DAYLIGHT
BEGIN:STANDARD
TZOFFSETFROM:-0400
TZOFFSETTO:-0500
TZNAME:EST
DTSTART:20191103T060000
END:STANDARD
END:VTIMEZONE
BEGIN:VEVENT
DTSTART;TZID=America/New_York:20190531T110000
DTEND;TZID=America/New_York:20190609T233000
DTSTAMP:20260421T022721
CREATED:20190529T180902Z
LAST-MODIFIED:20190606T173827Z
UID:100621-1559300400-1560123000@pointfm.com
SUMMARY:Discover Jazz Festival in Burlington\, VT
DESCRIPTION:The 36th Annual Burlington Discover Jazz Festival \nJoin us May 31-June 9\, 2019 for the Burlington Discover Jazz Festival\, a 10-day celebration of live music for all ages. With free live music on four stages in downtown Burlington\, headlining shows at the historic Flynn Center for the Performing Arts and the Waterfront Tent\, and nightly showcases in restaurants and venues all over the city\, the festival brings this community to life with a 10-day-long \nMay 31- June 9th \nTICKETS: \nAll festival tickets are sold through the FlynnTix Regional Box Office. To purchase in-person\, visit:\n153 Main Street\nBurlington\, VT \nOrder by phone at 802-86-FLYNN (802-863-5966) \nPurchase tickets online anytime at flynntix.org. \nFor Waterfront Tent shows\, tickets can be picked up in person at the Flynn box office before 2pm on the day of the show or on-site starting at 5pm. \n2019 Lineup: \nPatti Labelle //  Bobby McFerrin with Ranky Tanky //Toots & The Maytals and MANY MORE! \nFor full line up “click here“
URL:https://pointfm.com/events/discover-jazz-festival-in-burlington-vt/
END:VEVENT
END:VCALENDAR