BEGIN:VCALENDAR
VERSION:2.0
PRODID:-//The Point - ECPv5.16.3.1//NONSGML v1.0//EN
CALSCALE:GREGORIAN
METHOD:PUBLISH
X-WR-CALNAME:The Point
X-ORIGINAL-URL:https://pointfm.com
X-WR-CALDESC:Events for The Point
BEGIN:VTIMEZONE
TZID:America/New_York
BEGIN:DAYLIGHT
TZOFFSETFROM:-0500
TZOFFSETTO:-0400
TZNAME:EDT
DTSTART:20180311T070000
END:DAYLIGHT
BEGIN:STANDARD
TZOFFSETFROM:-0400
TZOFFSETTO:-0500
TZNAME:EST
DTSTART:20181104T060000
END:STANDARD
END:VTIMEZONE
BEGIN:VEVENT
DTSTART;TZID=America/New_York:20181215T193000
DTEND;TZID=America/New_York:20181215T230000
DTSTAMP:20260419T115530
CREATED:20181109T201152Z
LAST-MODIFIED:20181109T201152Z
UID:98396-1544902200-1544914800@pointfm.com
SUMMARY:Donna the Buffalo @ Chandler Music Hall
DESCRIPTION:Donna the Buffalo \nSaturday\, December 15th @ 7:30 pm \nChandler Music Hall | Randolph\, VT \n-Get Tickets and Event Info Here- \nWith roots deep in old-time fiddle music\, Donna the Buffalo weaves together a soulful mix of Cajun\, zydeco\, rock\, folk\, reggae\, and country sounds into its own\, singular  musical stew. Touring the United States continuously for nearly 30 years\, Donna the Buffalo is one of the most dynamic and eclectic bands on the American roots music scene. All Music Guidesays\, “This is what 21st-century Americana sounds like — a little bit of this and a little bit of that . . . a place where the past and history meet easily in the immediate now.
URL:https://pointfm.com/events/donna-the-buffalo-chandler-music-hall/
END:VEVENT
END:VCALENDAR