BEGIN:VCALENDAR
VERSION:2.0
PRODID:-//The Point - ECPv5.16.3.1//NONSGML v1.0//EN
CALSCALE:GREGORIAN
METHOD:PUBLISH
X-WR-CALNAME:The Point
X-ORIGINAL-URL:https://pointfm.com
X-WR-CALDESC:Events for The Point
BEGIN:VTIMEZONE
TZID:America/New_York
BEGIN:DAYLIGHT
TZOFFSETFROM:-0500
TZOFFSETTO:-0400
TZNAME:EDT
DTSTART:20180311T070000
END:DAYLIGHT
BEGIN:STANDARD
TZOFFSETFROM:-0400
TZOFFSETTO:-0500
TZNAME:EST
DTSTART:20181104T060000
END:STANDARD
END:VTIMEZONE
BEGIN:VEVENT
DTSTART;TZID=America/New_York:20181010T193000
DTEND;TZID=America/New_York:20181010T223000
DTSTAMP:20260421T100451
CREATED:20180926T154606Z
LAST-MODIFIED:20180926T154606Z
UID:98156-1539199800-1539210600@pointfm.com
SUMMARY:Dougie MacLean @ UVM Recital Hall
DESCRIPTION:Dougie MacLean\n \nWednesday\, October 10th @ 7:30PM \nUVM Recital Hall | Burlington VT \n– get tickets and event info here – \nIt’s been a long time since the internationally beloved troubadour\, Dougie MacLean\, has performed on the Lane Series\, and it’s high time we have him back. One of the world’s great singer-songwriters\, Dougie is the voice of Scotland\, and his song Caledonia its unofficial anthem. His intimate presence\, gorgeous\, gentle voice\, and beautiful supporting guitar make his concerts unforgettable. It’s an honor to bring an artist of this stature to our small hall (the last time he was here\, he sold out Ira Allen Chapel)\, and we’re delighted to be doing it with our friends at Young Tradition Vermont. \n  \n 
URL:https://pointfm.com/events/dougie-maclean-uvm-recital-hall/
END:VEVENT
END:VCALENDAR