BEGIN:VCALENDAR
VERSION:2.0
PRODID:-//The Point - ECPv5.16.3.1//NONSGML v1.0//EN
CALSCALE:GREGORIAN
METHOD:PUBLISH
X-WR-CALNAME:The Point
X-ORIGINAL-URL:https://pointfm.com
X-WR-CALDESC:Events for The Point
BEGIN:VTIMEZONE
TZID:America/New_York
BEGIN:DAYLIGHT
TZOFFSETFROM:-0500
TZOFFSETTO:-0400
TZNAME:EDT
DTSTART:20190310T070000
END:DAYLIGHT
BEGIN:STANDARD
TZOFFSETFROM:-0400
TZOFFSETTO:-0500
TZNAME:EST
DTSTART:20191103T060000
END:STANDARD
END:VTIMEZONE
BEGIN:VEVENT
DTSTART;TZID=America/New_York:20190620T190000
DTEND;TZID=America/New_York:20190620T220000
DTSTAMP:20260420T095738
CREATED:20190611T183414Z
LAST-MODIFIED:20190620T144352Z
UID:100740-1561057200-1561068000@pointfm.com
SUMMARY:Eli Paperboy Reed @ Lebanon Opera House ((Free Show!))
DESCRIPTION:2019 Front Porch Concert Series: \nFREE SHOW \nFeaturing: \nEli Paperboy Reed \nThursday\, June 20th @ 7:00 pm \nLebanon Opera House | Lebanon\, NH   ( across from 51 North Park Street) \nWith the release of his new record\, ‘99 Cent Dreams\,’ Eli “Paperboy” Reed begins his second decade as an artist much in the same way he began his first: completely and utterly in love with soul music. Reed is ten years older and ten years wiser this time around\, though\, writing with the kind of freewheeling confidence that can only come from experience\, and the result is the finest and most emotionally sophisticated music of his career. Cut at the legendary Sam Phillips Recording in Memphis\, TN\, and produced by Matt Ross-Spang (Jason Isbell\, Margo Price)\, ‘99 Cent Dreams’ is an exuberant and uplifting collection\, a celebration of life and love delivered by an ecstatic messenger who’s still in profound awe of the power of both. Reed’s arrangements on the album are lean and muscular\, filtering vintage R&B\, soul\, and gospel through the heart of a modern songwriter. His stunning voice remains front and center\, of course\, but his performances here have grown in their assurance and matured in their delivery\, a sign perhaps of the newfound perspective he’s gained with fatherhood.
URL:https://pointfm.com/events/eli-paperboy-reed-colburn-park-free-show/
END:VEVENT
END:VCALENDAR