BEGIN:VCALENDAR
VERSION:2.0
PRODID:-//The Point - ECPv5.16.3.1//NONSGML v1.0//EN
CALSCALE:GREGORIAN
METHOD:PUBLISH
X-WR-CALNAME:The Point
X-ORIGINAL-URL:https://pointfm.com
X-WR-CALDESC:Events for The Point
BEGIN:VTIMEZONE
TZID:America/New_York
BEGIN:DAYLIGHT
TZOFFSETFROM:-0500
TZOFFSETTO:-0400
TZNAME:EDT
DTSTART:20180311T070000
END:DAYLIGHT
BEGIN:STANDARD
TZOFFSETFROM:-0400
TZOFFSETTO:-0500
TZNAME:EST
DTSTART:20181104T060000
END:STANDARD
END:VTIMEZONE
BEGIN:VEVENT
DTSTART;TZID=America/New_York:20181006T193000
DTEND;TZID=America/New_York:20181006T223000
DTSTAMP:20260421T141812
CREATED:20180926T153935Z
LAST-MODIFIED:20180926T153935Z
UID:98153-1538854200-1538865000@pointfm.com
SUMMARY:Eric Bibb w/ Michael Jerome Browne @ UVM Recital Hall
DESCRIPTION:Eric Bibb w/ Michael Jerome Browne\n \nSaturday\, October 6th @ 7:30pm \nUVM Recital Hall | Burlington VT \n– get tickets and event info here – \nWe are delighted to welcome back to our stage the Lane Series favorite and one of America’s most revered blues musicians\, Eric Bibb\, with longtime sideman Michael Jermone Browne. He brings material from his new Grammy-nominated album\, Migration Blues\, which features songs born of the Great Migration\, a time in which millions of African-Americans left the brutal segregation and economic hardship of the South for a new life in the industrialized North. Bibb’s warm vocals and fine finger-picking guitar technique will take us on a journey through music. The man can play the blues\, and his music blends a traditional rootsy American style with a subtle\, contemporary sensibility. \n 
URL:https://pointfm.com/events/eric-bibb-w-michael-jerome-browne-uvm-recital-hall/
END:VEVENT
END:VCALENDAR