BEGIN:VCALENDAR
VERSION:2.0
PRODID:-//The Point - ECPv5.16.3.1//NONSGML v1.0//EN
CALSCALE:GREGORIAN
METHOD:PUBLISH
X-WR-CALNAME:The Point
X-ORIGINAL-URL:https://pointfm.com
X-WR-CALDESC:Events for The Point
BEGIN:VTIMEZONE
TZID:America/New_York
BEGIN:DAYLIGHT
TZOFFSETFROM:-0500
TZOFFSETTO:-0400
TZNAME:EDT
DTSTART:20220313T070000
END:DAYLIGHT
BEGIN:STANDARD
TZOFFSETFROM:-0400
TZOFFSETTO:-0500
TZNAME:EST
DTSTART:20221106T060000
END:STANDARD
END:VTIMEZONE
BEGIN:VEVENT
DTSTART;VALUE=DATE:20220805
DTEND;VALUE=DATE:20220808
DTSTAMP:20260423T043514
CREATED:20220727T151142Z
LAST-MODIFIED:20220727T151142Z
UID:105186-1659657600-1659916799@pointfm.com
SUMMARY:Festival of Fools
DESCRIPTION:Festival of Fools is coming to Downtown Burlington! With 27 different performers and 9 events throughout the festival\, there will be something for everyone. This event will be over the course of three days from August 5th through August 7th! \nThe Festival begins at noon (12pm) on Friday\, August 5\, and the Kick-Off Parade is at 5:30pm and will travel along Church Street. \nFor more information about the festival\, check out the website at: https://vermontfestivaloffools.com/
URL:https://pointfm.com/events/festival-of-fools/
END:VEVENT
END:VCALENDAR