BEGIN:VCALENDAR
VERSION:2.0
PRODID:-//The Point - ECPv5.16.3.1//NONSGML v1.0//EN
CALSCALE:GREGORIAN
METHOD:PUBLISH
X-WR-CALNAME:The Point
X-ORIGINAL-URL:https://pointfm.com
X-WR-CALDESC:Events for The Point
BEGIN:VTIMEZONE
TZID:America/New_York
BEGIN:DAYLIGHT
TZOFFSETFROM:-0500
TZOFFSETTO:-0400
TZNAME:EDT
DTSTART:20190310T070000
END:DAYLIGHT
BEGIN:STANDARD
TZOFFSETFROM:-0400
TZOFFSETTO:-0500
TZNAME:EST
DTSTART:20191103T060000
END:STANDARD
END:VTIMEZONE
BEGIN:VEVENT
DTSTART;TZID=America/New_York:20190224T190000
DTEND;TZID=America/New_York:20190224T230000
DTSTAMP:20260424T005819
CREATED:20190128T212805Z
LAST-MODIFIED:20190128T212853Z
UID:99141-1551034800-1551049200@pointfm.com
SUMMARY:Gaelic Storm @ Spruce Peak Performing Arts Center
DESCRIPTION:Gaelic Storm \nSunday\, February 24th @ 7:00 pm \nSpruce Peak Performing Arts Center | Stowe\, VT \n-Get Tickets and Event Info Here- \nA multi-national\, Celtic juggernaut Gaelic Storm has a fanatic audience\, and it’s a well-diversified crowd for sure. The country-music folks adore the storytelling\, the bluegrass-heads love the instrumentals\, Celtic fans love their devotion to tradition\, and the rockers simply relish the passion they play their instruments with.  A feel good band for the dead of winter!
URL:https://pointfm.com/events/gaelic-storm-spruce-peak-performing-arts-center/
END:VEVENT
END:VCALENDAR