BEGIN:VCALENDAR
VERSION:2.0
PRODID:-//The Point - ECPv5.16.3.1//NONSGML v1.0//EN
CALSCALE:GREGORIAN
METHOD:PUBLISH
X-WR-CALNAME:The Point
X-ORIGINAL-URL:https://pointfm.com
X-WR-CALDESC:Events for The Point
BEGIN:VTIMEZONE
TZID:America/New_York
BEGIN:DAYLIGHT
TZOFFSETFROM:-0500
TZOFFSETTO:-0400
TZNAME:EDT
DTSTART:20190310T070000
END:DAYLIGHT
BEGIN:STANDARD
TZOFFSETFROM:-0400
TZOFFSETTO:-0500
TZNAME:EST
DTSTART:20191103T060000
END:STANDARD
END:VTIMEZONE
BEGIN:VEVENT
DTSTART;TZID=America/New_York:20190419T193000
DTEND;TZID=America/New_York:20190419T223000
DTSTAMP:20260424T003819
CREATED:20190318T195001Z
LAST-MODIFIED:20190318T195001Z
UID:100311-1555702200-1555713000@pointfm.com
SUMMARY:Get The Led Out @ Lebanon Opera House
DESCRIPTION:Get The Led Out \nFriday\, April 19th @ 7:30 pm \nLebanon Opera House | Lebanon\, NH \n-Get Tickets and Event Info Here- \nKirschner Concerts presents a benefit in support of the Rusty Berrings Skatepark Lighting Project. \nFrom the bombastic and epic\, to the folky and mystical\, Get The Led Out (GTLO) has captured the essence of the recorded music of Led Zeppelin and brought it to the concert stage. The Philadelphia-based group is intent on delivering Led Zeppelin live\, like you’ve never heard before. Utilizing the multi-instrumentalists at their disposal\, GTLO re-create the songs in all their depth and glory with the studio overdubs that Zeppelin themselves never performed.
URL:https://pointfm.com/events/get-the-led-out-lebanon-opera-house/
END:VEVENT
END:VCALENDAR