BEGIN:VCALENDAR
VERSION:2.0
PRODID:-//The Point - ECPv5.16.3.1//NONSGML v1.0//EN
CALSCALE:GREGORIAN
METHOD:PUBLISH
X-WR-CALNAME:The Point
X-ORIGINAL-URL:https://pointfm.com
X-WR-CALDESC:Events for The Point
BEGIN:VTIMEZONE
TZID:America/New_York
BEGIN:DAYLIGHT
TZOFFSETFROM:-0500
TZOFFSETTO:-0400
TZNAME:EDT
DTSTART:20190310T070000
END:DAYLIGHT
BEGIN:STANDARD
TZOFFSETFROM:-0400
TZOFFSETTO:-0500
TZNAME:EST
DTSTART:20191103T060000
END:STANDARD
END:VTIMEZONE
BEGIN:VEVENT
DTSTART;TZID=America/New_York:20190618T140000
DTEND;TZID=America/New_York:20190629T230000
DTSTAMP:20260420T161655
CREATED:20190520T162621Z
LAST-MODIFIED:20190520T162621Z
UID:100607-1560866400-1561849200@pointfm.com
SUMMARY:Godspell @ St. Michael's Playhouse
DESCRIPTION:Godspell \nMusic and Lyrics by Stephen Schwartz\nConceived and Originally Directed by John-Michael Tebelak\nLyrics to “By My Side” by Jay Hamburger\nMusic to “By My Side” by Peggy Gordon \nEvenings: 8:00 p.m  June 18 – 22\, June 25 – 29\, 2019\nMatinees: 2:00 p.m.  June 22 & 29\, 2019 \nSt. Michael’s Playhouse |  Colchester\, V \n-Get Tickets and Event Info Here- \nA dazzling new version of the Broadway sensation developed for the Playhouse by the creative team that produced last year’s smash hit musical Once. This production features ten extraordinary actor/musicians performing Godspell’s profound and timely story of love\, acceptance\, and compassion. \nThe vibrant and internationally acclaimed score by three-time Grammy and Academy Award winner Stephen Schwartz (Wicked\, Pippin\, Children of Eden) features a parade of beloved songs\, including “Day by Day\,” “Prepare Ye\,” “Learn Your Lessons Well\,” “All for the Best\,” “All Good Gifts\,” “Turn Back\, O Man” and “By My Side.” Don’t miss it.
URL:https://pointfm.com/events/godspell-st-michaels-playhouse/
END:VEVENT
END:VCALENDAR