BEGIN:VCALENDAR
VERSION:2.0
PRODID:-//The Point - ECPv5.16.3.1//NONSGML v1.0//EN
CALSCALE:GREGORIAN
METHOD:PUBLISH
X-WR-CALNAME:The Point
X-ORIGINAL-URL:https://pointfm.com
X-WR-CALDESC:Events for The Point
BEGIN:VTIMEZONE
TZID:America/New_York
BEGIN:DAYLIGHT
TZOFFSETFROM:-0500
TZOFFSETTO:-0400
TZNAME:EDT
DTSTART:20190310T070000
END:DAYLIGHT
BEGIN:STANDARD
TZOFFSETFROM:-0400
TZOFFSETTO:-0500
TZNAME:EST
DTSTART:20191103T060000
END:STANDARD
END:VTIMEZONE
BEGIN:VEVENT
DTSTART;TZID=America/New_York:20190129T190000
DTEND;TZID=America/New_York:20190129T220000
DTSTAMP:20260419T160723
CREATED:20181128T204002Z
LAST-MODIFIED:20181128T204002Z
UID:98456-1548788400-1548799200@pointfm.com
SUMMARY:Havana Cuba All-Stars & Dancers @ Fuller Hall
DESCRIPTION:Havana Cuba All Stars & Dancers \nTuesday\, January 29th @ 7:00 pm \nFuller Hall | St. Johnsbury Academy \n-Get Tickets and Event Info Here- \nA joyous spectacle of music and dance from Cuba showcasing a rich culture with different rhythms and melodies from “Son Cubano” to cha cha cha and rumba. \nBack by popular demand\, this high-energy group performs a joyous celebration of Cuban music and dance styles. The Havana Cuba All-Stars are some of Cuba’s greatest musicians. With rhythms and melodies from the cha cha to the rumba\, from “Son Cubano” style to the salsa\, the All-Stars will showcase a wide variety of Cuban beats. The group is inspired by and dedicated to promoting the entire tapestry of Cuban music through a fresh\, contemporary lens. \nIn this “Asere”—or “Friendship”—tour\, the All-Stars will be backed by three of Cuba’s finest dancing couples. With the greatest dancers and musicians of Cuba working in tandem\, the American encore of the Havana Cuba All-Stars’ tour will be a spirited spectacle of song and dance\, exemplifying Cuba’s greatest musical traditions.
URL:https://pointfm.com/events/havana-cuba-all-stars-dancers-fuller-hall/
END:VEVENT
END:VCALENDAR