BEGIN:VCALENDAR
VERSION:2.0
PRODID:-//The Point - ECPv5.16.3.1//NONSGML v1.0//EN
CALSCALE:GREGORIAN
METHOD:PUBLISH
X-WR-CALNAME:The Point
X-ORIGINAL-URL:https://pointfm.com
X-WR-CALDESC:Events for The Point
BEGIN:VTIMEZONE
TZID:America/New_York
BEGIN:DAYLIGHT
TZOFFSETFROM:-0500
TZOFFSETTO:-0400
TZNAME:EDT
DTSTART:20190310T070000
END:DAYLIGHT
BEGIN:STANDARD
TZOFFSETFROM:-0400
TZOFFSETTO:-0500
TZNAME:EST
DTSTART:20191103T060000
END:STANDARD
END:VTIMEZONE
BEGIN:VEVENT
DTSTART;TZID=America/New_York:20190429T193000
DTEND;TZID=America/New_York:20190429T223000
DTSTAMP:20260423T191838
CREATED:20190204T193619Z
LAST-MODIFIED:20190204T193619Z
UID:99168-1556566200-1556577000@pointfm.com
SUMMARY:Hippo Campus @ Higher Ground
DESCRIPTION:The Point Welcomes: \nHippo Campus \nA Tour de Point Show \nMonday\, April 29th @ 8:00 pm \nHigher Ground | Burlington\, VT \n-Get Tickets and Event Info Here- \nHippo Campus is a band from St. Paul\, Minnesota. Formed in 2013\, prior to graduating from performing arts high school\, the band started on a break out trajectory following a series of talked-about performances at SXSW. This was immediately followed by their network television debut on Conan. They’ve since risen to the forefront of their genre on the backs of relentless touring and the strength of their debut album ‘landmark’. \nIn October 2017\, the band released their self-produced EP ‘warm glow’ as an ode to loyalty and self-preservation. “We had tunes that didn’t fit on ‘landmark’ but took on a life of their own. The project became about the support we couldn’t find as individuals but discovered as an entity.” \nThe band’s sophomore release\, ‘Bambi’ was released on September 28th\, 2018.
URL:https://pointfm.com/events/hippo-campus-higher-ground/
END:VEVENT
END:VCALENDAR