BEGIN:VCALENDAR
VERSION:2.0
PRODID:-//The Point - ECPv5.16.3.1//NONSGML v1.0//EN
CALSCALE:GREGORIAN
METHOD:PUBLISH
X-WR-CALNAME:The Point
X-ORIGINAL-URL:https://pointfm.com
X-WR-CALDESC:Events for The Point
BEGIN:VTIMEZONE
TZID:America/New_York
BEGIN:DAYLIGHT
TZOFFSETFROM:-0500
TZOFFSETTO:-0400
TZNAME:EDT
DTSTART:20180311T070000
END:DAYLIGHT
BEGIN:STANDARD
TZOFFSETFROM:-0400
TZOFFSETTO:-0500
TZNAME:EST
DTSTART:20181104T060000
END:STANDARD
END:VTIMEZONE
BEGIN:VEVENT
DTSTART;TZID=America/New_York:20181221T200000
DTEND;TZID=America/New_York:20181221T230000
DTSTAMP:20260419T091116
CREATED:20181109T203126Z
LAST-MODIFIED:20181109T203126Z
UID:98398-1545422400-1545433200@pointfm.com
SUMMARY:Into The Mystic: A Tribute to Van Morrison @ Higher Ground
DESCRIPTION:The Point Welcomes: \nInto The Mystic: A Tribute to Van Morrison \nA Tour de Point Show \nFriday\, December 21st @ 8:00 pm \nHigher Ground | S. Burlington\, VT \n-Get Tickets and Event Info Here- \nSpanning over 5 decades\, the musical catalogue and work of Van Morrison has been a steady stream of inspiration for musicians and countless others who choose to include them in the soundtracks of our their lives. “With one of the most revered catalogues in music history and his unparalleled talents as composer\, singer and performer Morrison’s past achievements loom large. But\, as throughout his extraordinary career\, how that past informs his future achievements and still stirs excitement and keen anticipation” \nDrawing from his complete collection of works\, “Into the Mystic”\, seeks to recreate the spirit and energy of Morrison’s Music and pay respects to a man who himself is a hard act to catch and most humbly follow in 2017. Bridging this gap\, 8 piece- Into the Mystic\, Led by vocalist Justin Panigutti (formerly of Bearquarium)\, is comprised of some of the area’s finest musicians and portrayers\, coming together to produce an evening of Van Morrison’s finest work and promising to be a musical experience not to disappoint.
URL:https://pointfm.com/events/into-the-mystic-a-tribute-to-van-morrison-higher-ground/
END:VEVENT
END:VCALENDAR