BEGIN:VCALENDAR
VERSION:2.0
PRODID:-//The Point - ECPv5.16.3.1//NONSGML v1.0//EN
CALSCALE:GREGORIAN
METHOD:PUBLISH
X-WR-CALNAME:The Point
X-ORIGINAL-URL:https://pointfm.com
X-WR-CALDESC:Events for The Point
BEGIN:VTIMEZONE
TZID:America/New_York
BEGIN:DAYLIGHT
TZOFFSETFROM:-0500
TZOFFSETTO:-0400
TZNAME:EDT
DTSTART:20190310T070000
END:DAYLIGHT
BEGIN:STANDARD
TZOFFSETFROM:-0400
TZOFFSETTO:-0500
TZNAME:EST
DTSTART:20191103T060000
END:STANDARD
END:VTIMEZONE
BEGIN:VEVENT
DTSTART;TZID=America/New_York:20190623T190000
DTEND;TZID=America/New_York:20190623T230000
DTSTAMP:20260420T084815
CREATED:20190621T175825Z
LAST-MODIFIED:20190621T180116Z
UID:100842-1561316400-1561330800@pointfm.com
SUMMARY:JEFFERSON STARSHIP
DESCRIPTION:Jefferson Starship \nJune 23 \nSpruce Peak Arts | Stowe\,  VT \n-Get Tickets and Event Info Here- \nJefferson Starship rose from the ashes of another legendary San Francisco band\, Rock and Roll Hall of Fame Inductees\, Jefferson Airplane. \nFounder Paul Kantner (who died in January 2016 at age 74) knew that combining powerful creative forces\, personalities and talents could create something far greater than the sum of its parts. \nBetween 1974 and 1984\, Jefferson Starship released eight gold and platinum albums\, twenty hit singles\, sold out concerts worldwide and lived out legendary rock and roll escapades. \n“Jefferson Starship was my creation…and it has this nice fluidity about it that allows any number of people to come in and do things with whatever Jefferson Starship is.” – Paul Kantner \nToday’s Jefferson Starship remains dedicated to breathing new life into the living catalog of the Jeffersonian legacy\, going to the edge\, pushing the sonic boundaries and staying true to the original spirit of the music. \nFeaturing original and historic members David Freiberg (also a founder of San Francisco luminaries Quicksilver Messenger Service) and drummer Donny Baldwin\, along with longtime members Chris Smith on keyboards and synth bass\, Jude Gold on lead guitar and GRAMMY Nominee Cathy Richardson anchoring the female lead vocal spot made famous by the inimitable Grace Slick (who invited her to sing in her place as Jefferson Airplane accepts their Lifetime Achievement Award at the GRAMMY Merit Awards Concert.) \nThe band keeps a hectic touring schedule bolstered by several television recent appearances including My Music: 60s Pop\, Rock and Soul on PBS and live with the Contemporary Youth Orchestra on AXS Network. The Freiberg-penned 1979 hit Jane is the theme song for the Netflix Original Series Wet\, Hot American Summer. In 2014-15\, the band played a series of free concerts for America’s Veterans and was awarded a Certificate of Appreciation from the US Department of Defense. Jefferson Starship has traveled the world playing in 20 countries across the globe in the last 3 years alone. \nThe music that defined a generation and spanned decades is alive and well and more relevant than ever in pop culture- songs such as Volunteers\, White Rabbit\, Wooden Ships\, Somebody to Love\, Today\, Miracles\, Count on Me\, Fast Buck Freddie\, Jane and Find Your Way Back continue to reverberate throughout the collective consciousness today.
URL:https://pointfm.com/events/jefferson-starship/
END:VEVENT
END:VCALENDAR