BEGIN:VCALENDAR
VERSION:2.0
PRODID:-//The Point - ECPv5.16.3.1//NONSGML v1.0//EN
CALSCALE:GREGORIAN
METHOD:PUBLISH
X-WR-CALNAME:The Point
X-ORIGINAL-URL:https://pointfm.com
X-WR-CALDESC:Events for The Point
BEGIN:VTIMEZONE
TZID:America/New_York
BEGIN:DAYLIGHT
TZOFFSETFROM:-0500
TZOFFSETTO:-0400
TZNAME:EDT
DTSTART:20190310T070000
END:DAYLIGHT
BEGIN:STANDARD
TZOFFSETFROM:-0400
TZOFFSETTO:-0500
TZNAME:EST
DTSTART:20191103T060000
END:STANDARD
END:VTIMEZONE
BEGIN:VEVENT
DTSTART;TZID=America/New_York:20190214T203000
DTEND;TZID=America/New_York:20190214T230000
DTSTAMP:20260422T045536
CREATED:20181109T214341Z
LAST-MODIFIED:20181120T211642Z
UID:98405-1550176200-1550185200@pointfm.com
SUMMARY:Kurt Vile & The Violators @ Higher Ground
DESCRIPTION:The Point Welcomes: \nKurt Vile & The Violators  \nA Tour de Point Show \nThursday\, February 14th @ 8:30 pm \n-Get Tickets and Event Info Here- \nTravel can inspire in surprising ways: Kurt Vile discovered as much making his first record in three years\, the eclectic and electrifying Bottle It In\, which he recorded at various studios around the country over two very busy years\, during sessions that usually punctuated the ends of long tours or family road trips. Every song\, whether it’s a concise and catchy pop composition or a sprawling guitar epic\, becomes a journey unto itself\, taking unexpected detours\, circuitous melodic avenues\, or open-highway solos. If Vile has become something of a rock guitar god—a mantle he would dismiss out of humility but also out of a desire to keep getting better\, to continue absorbing new music\, new sounds\, new ideas—it’s due to his precise\, witty playing style\, which turns every riff and rhythm into points on a map and takes the scenic route from one to the next.
URL:https://pointfm.com/events/kurt-vile-the-violators-higher-ground/
END:VEVENT
END:VCALENDAR