BEGIN:VCALENDAR
VERSION:2.0
PRODID:-//The Point - ECPv5.16.3.1//NONSGML v1.0//EN
CALSCALE:GREGORIAN
METHOD:PUBLISH
X-WR-CALNAME:The Point
X-ORIGINAL-URL:https://pointfm.com
X-WR-CALDESC:Events for The Point
BEGIN:VTIMEZONE
TZID:America/New_York
BEGIN:DAYLIGHT
TZOFFSETFROM:-0500
TZOFFSETTO:-0400
TZNAME:EDT
DTSTART:20190310T070000
END:DAYLIGHT
BEGIN:STANDARD
TZOFFSETFROM:-0400
TZOFFSETTO:-0500
TZNAME:EST
DTSTART:20191103T060000
END:STANDARD
END:VTIMEZONE
BEGIN:VEVENT
DTSTART;TZID=America/New_York:20190711T190000
DTEND;TZID=America/New_York:20190711T220000
DTSTAMP:20260419T093154
CREATED:20190611T191221Z
LAST-MODIFIED:20190611T194323Z
UID:100751-1562871600-1562882400@pointfm.com
SUMMARY:Laura Orshaw & The New Velvet Band @ Colburn Park ((Free Show!))
DESCRIPTION:2019 Front Porch Concert Series: \nFREE SHOW \nFeaturing: \nLaura Orshaw & The New Velvet Band\n \nThursday\, July 11th @ 7:00 pm \nColburn Park | Lebanon\, NH   ( across from 51 North Park Street) \n  \n\n\n\nPower-house fiddler and vocalist\, Laura Orshaw\, has toured throughout the United States and Canada with Danny Paisley and the Southern Grass\, the Tennessee Mafia Jug Band\, Jenni Lyn\, mandolinist of Della Mae\, 2018 IBMA Emerging Artist of the Year The Po’ Ramblin’ Boys\, and her current band\, Alan Bibey & Grasstowne. Laura has also performed with Del McCoury\, Ricky Skaggs\, John Scofield\, Sarah Jarosz\, Tony Trischka\, Becky Buller\, and Darol Anger among others. Her music has been featured on Del McCoury’s SiriusXM radio broadcast\, Hand Picked with Del\, and in Bluegrass Today\, Vintage Guitar Magazine\, Sing Out!\, and Dirty Linen. According to Bluegrass Unlimited\, “Laura Orshaw has firmly established herself as a significant emerging artist in the arena of traditional American music… [she is] an extremely talented musician with unlimited potential.” Laura is also a highly sought-after instructor who has taught numerous camps\, workshops and kids academies\, and started teaching weekly lessons to adults when she was just 12 years old. \nLaura Orshaw is an exciting voice on today’s acoustic music scene. Fast-becoming one of today’s celebrated emerging artists\, she is a multi-instrumentalist and compelling singer. Laura earns die-hard fans across the country with her energy and her earnest performance\, playing and singing with joy and drive.
URL:https://pointfm.com/events/laura-orshaw-the-new-velvet-band-colburn-park-free-show/
END:VEVENT
END:VCALENDAR