BEGIN:VCALENDAR
VERSION:2.0
PRODID:-//The Point - ECPv5.16.3.1//NONSGML v1.0//EN
CALSCALE:GREGORIAN
METHOD:PUBLISH
X-WR-CALNAME:The Point
X-ORIGINAL-URL:https://pointfm.com
X-WR-CALDESC:Events for The Point
BEGIN:VTIMEZONE
TZID:America/New_York
BEGIN:DAYLIGHT
TZOFFSETFROM:-0500
TZOFFSETTO:-0400
TZNAME:EDT
DTSTART:20180311T070000
END:DAYLIGHT
BEGIN:STANDARD
TZOFFSETFROM:-0400
TZOFFSETTO:-0500
TZNAME:EST
DTSTART:20181104T060000
END:STANDARD
END:VTIMEZONE
BEGIN:VEVENT
DTSTART;TZID=America/New_York:20181019T200000
DTEND;TZID=America/New_York:20181019T230000
DTSTAMP:20260421T054431
CREATED:20180926T155119Z
LAST-MODIFIED:20180926T155119Z
UID:98160-1539979200-1539990000@pointfm.com
SUMMARY:Low Cut Connie @ Higher Ground
DESCRIPTION:The Point Welcomes: \nLow Cut Connie\n \nA Tour de Point Show \nFriday\, October 19th @ 8PM \nHigher Ground | S Burlington VT \n–Get Tickets and Event Info – \nSince Low Cut Connie’s debut record Get Out the Lotion (NPR’s Fresh Air Top 10 albums of 2011)\, they’ve firmly established their reputation as one of the most exciting live shows in the US\, with Greg Kot (Sound Opinions / Chicago Tribune) exclaiming they are “the essence of what rock n roll should be” and the New York Times stating “The group’s live show is a strange phenomenon.” \nAdam Weiner’s $100 junker piano\, named Shondra\, is the backbone of their boogie strain of rock n roll. Recently adding longtime Sharon Jones & the Dap-Kings member Saundra Williams\, the result is what Rolling Stone describes as “a mix of Seventies Stones (but dirtier)\, the New York Dolls (but tighter) and Jerry Lee Lewis (but Westerberg-ier)…with an extra sense of bare-knuckled grit and sonic thwump.” \nOn their 5th studio album Dirty Pictures (Part 2)\, released via Contender Records\, the band urges all current and former youths: Feel your feelings. Feel sadness\, feel love\, feel wildness. Give your feelings away to others and maybe it will lift us up. It’s this musical and emotional literacy that sets the band apart\, with their world-weary but life-affirming attitude that inspires their cult following and notable cheerleaders such as Barack Obama\, Sir Elton John\, Howard Stern. \nRolling Stone recently included Dirty Pictures (Part 2) on their list of the 50 Best Albums of 2018 so far. In his four-star review\, David Fricke called the record “a stand-alone triumph of missionary zeal.” In a First Listen feature\, NPR Music said\, “Across five albums of piano-driven rock and soul\, Low Cut Connie has proven masterfully fluent in the foundational languages of Western pop\, living at the crossroads where the church house meets the roadhouse\, or where the Dew Drop Inn meets CBGB… The blood that pumps through the Philadelphia band’s work comes from a place that’s fresh\, original\, and truly pledged to rock and roll.” \n?With more than 120 shows per year\, including stops at festivals like Bonnaroo\, Bottle Rock\, Rock The Garden\, Pickathon\, Newport Folk Festival and more\, this little act from Philly continues to dig in their corner of the sandbox. Low Cut Connie light a fire at every show and with every record. Dirty Pictures (part 2) reminds all of us\, all the little people\, to keep our fires lit at any cost.
URL:https://pointfm.com/events/low-cut-connie-higher-ground/
END:VEVENT
END:VCALENDAR