BEGIN:VCALENDAR
VERSION:2.0
PRODID:-//The Point - ECPv5.16.3.1//NONSGML v1.0//EN
CALSCALE:GREGORIAN
METHOD:PUBLISH
X-WR-CALNAME:The Point
X-ORIGINAL-URL:https://pointfm.com
X-WR-CALDESC:Events for The Point
BEGIN:VTIMEZONE
TZID:America/New_York
BEGIN:DAYLIGHT
TZOFFSETFROM:-0500
TZOFFSETTO:-0400
TZNAME:EDT
DTSTART:20190310T070000
END:DAYLIGHT
BEGIN:STANDARD
TZOFFSETFROM:-0400
TZOFFSETTO:-0500
TZNAME:EST
DTSTART:20191103T060000
END:STANDARD
END:VTIMEZONE
BEGIN:VEVENT
DTSTART;TZID=America/New_York:20190710T173000
DTEND;TZID=America/New_York:20190710T203000
DTSTAMP:20260419T132439
CREATED:20190624T195816Z
LAST-MODIFIED:20190624T195816Z
UID:100887-1562779800-1562790600@pointfm.com
SUMMARY:Lula Wiles @ Dartmouth Green ((Free Show!))
DESCRIPTION:Summer Free for all 2019 \nFeaturing: \nLula Wiles \nWednesday\, July 10th @ 5:30 pm \nDartmouth Green | Hanover\, NH \n\n\n\n\n\n\n\n“They’re virtuosic … young women who know their minds and flex their intellects.”—Jewly Hight\, NPR Music  \nHailing us from the junction of tradition and revolution\, this trio reclaims folk music\, infusing it with pop hooks\, multi-layered vocals and other modern sounds. Isa Burke\, Eleanor Buckland and Mali Obomsawin (Dartmouth class of 2018) are natives of rural Maine who connected in Boston and have gone on to grace the stages of the Newport and Philadelphia folk festivals. Set to release their sophomore album this fall on Smithsonian Folkways\, they’ve garnered acclaim from NPR Music and the Boston Music Awards and have shared stages with the likes of Aoife O’Donovan\, the Wood Brothers and Tim O’Brien.
URL:https://pointfm.com/events/lula-wiles-dartmouth-green-free-show/
END:VEVENT
END:VCALENDAR