BEGIN:VCALENDAR
VERSION:2.0
PRODID:-//The Point - ECPv5.16.3.1//NONSGML v1.0//EN
CALSCALE:GREGORIAN
METHOD:PUBLISH
X-WR-CALNAME:The Point
X-ORIGINAL-URL:https://pointfm.com
X-WR-CALDESC:Events for The Point
BEGIN:VTIMEZONE
TZID:America/New_York
BEGIN:DAYLIGHT
TZOFFSETFROM:-0500
TZOFFSETTO:-0400
TZNAME:EDT
DTSTART:20190310T070000
END:DAYLIGHT
BEGIN:STANDARD
TZOFFSETFROM:-0400
TZOFFSETTO:-0500
TZNAME:EST
DTSTART:20191103T060000
END:STANDARD
END:VTIMEZONE
BEGIN:VEVENT
DTSTART;TZID=America/New_York:20190228T200000
DTEND;TZID=America/New_York:20190228T230000
DTSTAMP:20260423T114800
CREATED:20181128T210622Z
LAST-MODIFIED:20181128T210622Z
UID:98464-1551384000-1551394800@pointfm.com
SUMMARY:Matt Nathanson @ Higher Ground
DESCRIPTION:The Point Welcomes: \nMatt Nathanson \nA Tour de Point Show \nThursday\, February 28th @ 8:00 pm \nHigher Ground | Burlington\, VT \n-Get Tickets and Event Info Here- \nBased in San Francisco\, Matt Nathanson has evolved into one of the most applauded songwriters and engaging performers on the music scene today. His 2007 album\, Some Mad Hope\, yielded his breakthrough multi-platinum hit “Come on Get Higher.” His 2013 release\, Last of The Great Pretenders\, debuted at #16 on the Billboard Top 200 while hitting #1 on iTunes’ Alternative Albums chart. Nathanson’s latest album\, Show Me Your Fangs\, was hailed as his most adventurous and prolific album to date featuring the songs\, “Giants\,” “Bill Murray” and “Adrenaline.” \nThis year\, Nathanson has announced his new album Sings His Sad Heart will be released on October 5. The album comes off the heels of Nathanson’s Def Leppard approved cover album of their iconic Pyromania called Pyromattia which shot to #1 on iTunes Alternative chart upon its release. Def Leppard’s Joe Elliott called the album “an amazing reinterpretation” with “heart & soul.” Nathanson is currently out as a special guest on O.A.R.’s Just Like Paradise Tour through September 18th. \nNathanson has performed on The Howard Stern Show\, Ellen\, CONAN\, Jimmy Kimmel Live!\, Dancing with the Stars\, Rachael Ray\, and The CMA Awards to name a few.
URL:https://pointfm.com/events/matt-nathanson-higher-ground/
END:VEVENT
END:VCALENDAR