BEGIN:VCALENDAR
VERSION:2.0
PRODID:-//The Point - ECPv5.16.3.1//NONSGML v1.0//EN
CALSCALE:GREGORIAN
METHOD:PUBLISH
X-WR-CALNAME:The Point
X-ORIGINAL-URL:https://pointfm.com
X-WR-CALDESC:Events for The Point
BEGIN:VTIMEZONE
TZID:America/New_York
BEGIN:DAYLIGHT
TZOFFSETFROM:-0500
TZOFFSETTO:-0400
TZNAME:EDT
DTSTART:20190310T070000
END:DAYLIGHT
BEGIN:STANDARD
TZOFFSETFROM:-0400
TZOFFSETTO:-0500
TZNAME:EST
DTSTART:20191103T060000
END:STANDARD
END:VTIMEZONE
BEGIN:VEVENT
DTSTART;TZID=America/New_York:20190518T200000
DTEND;TZID=America/New_York:20190518T230000
DTSTAMP:20260423T111341
CREATED:20190425T181002Z
LAST-MODIFIED:20190425T181002Z
UID:100494-1558209600-1558220400@pointfm.com
SUMMARY:Max Weinberg's Jukebox @ The Double E Performance Center
DESCRIPTION:Max Weinberg’s Jukebox \nSaturday\, May 18th @ 8:00 pm \nThe Double E Performance Center | Essex Junction\, VT \n-Get Tickets and Event Info Here- \nAs Chuck Berry instructed us in his classic “School Days\,”…drop the coin right into the slot” audiences have thoroughly embraced the idea of picking and calling out the songs the band pays—in real time and in a variety of intimate venues. \nFrom Beatles to Bruce and Stones to Steppenwolf the band infuses these classics with the respect the songs deserve. \nAs one fan said\, “It’s not a concert—it’s party! The bar was packed!” But don’t take our word for it. \nHere’s what Marc Steczyk\, director of the Lincoln Amphitheater\, in Indiana\, had to say: “Max Weinberg’s Jukebox was one of the most interactive\, energetic performances that we’ve ever had at the Lincoln Amphitheater! Max\, literally\, leaves the stage to be amongst the crowd—his fans—and lets them pick the set list from a scrolling list of 300+ songs…and they play it…on the spot…spot on! Max is a pro’s pro\, as was his entire band—tremendously professional to work with and a great asset to our entire performance series!”
URL:https://pointfm.com/events/max-weinbergs-jukebox-the-double-e-performance-center/
END:VEVENT
END:VCALENDAR