BEGIN:VCALENDAR
VERSION:2.0
PRODID:-//The Point - ECPv5.16.3.1//NONSGML v1.0//EN
CALSCALE:GREGORIAN
METHOD:PUBLISH
X-WR-CALNAME:The Point
X-ORIGINAL-URL:https://pointfm.com
X-WR-CALDESC:Events for The Point
BEGIN:VTIMEZONE
TZID:America/New_York
BEGIN:DAYLIGHT
TZOFFSETFROM:-0500
TZOFFSETTO:-0400
TZNAME:EDT
DTSTART:20180311T070000
END:DAYLIGHT
BEGIN:STANDARD
TZOFFSETFROM:-0400
TZOFFSETTO:-0500
TZNAME:EST
DTSTART:20181104T060000
END:STANDARD
END:VTIMEZONE
BEGIN:VEVENT
DTSTART;TZID=America/New_York:20181026T193000
DTEND;TZID=America/New_York:20181026T230000
DTSTAMP:20260420T212113
CREATED:20180926T155817Z
LAST-MODIFIED:20180926T155817Z
UID:98165-1540582200-1540594800@pointfm.com
SUMMARY:Molly Tuttle @ UVM Recital Hall
DESCRIPTION:Molly Tuttle\n \nFriday\, October 26th @ 7:30PM \nUVM Recital Hall | Burlington VT \n– get tickets and event info here – \nMolly Tuttle is an unbelievably virtuosic bluegrass guitar player with a whole lot of style and panache\, plus a very generous and humble stage presence. Playing and singing a mixture of old-timey classics\, contemporary “newgrass\,” and her own heartfelt songs with her dynamite band\, she is one of those performers who just brings a smile to the audience. She’s the 2017 winner of the International Bluegrass Music Award for Guitar Player of the Year\, and the first woman ever to win this honor. Pure joy onstage\, Molly and her band of first-rate bluegrass pickers are impossible not to love.
URL:https://pointfm.com/events/molly-tuttle-uvm-recital-hall/
END:VEVENT
END:VCALENDAR